BEGIN:VCALENDAR
VERSION:2.0
PRODID:-//wp-events-plugin.com//7.2.3.1//EN
BEGIN:VEVENT
UID:8631@visitlebanonky.com
DTSTART;TZID=America/Kentucky/Louisville:20260205T180000
DTEND;TZID=America/Kentucky/Louisville:20260205T200000
DTSTAMP:20260113T195955Z
URL:https://visitlebanonky.com/events/beginners-pickleball-league-meeting/
SUMMARY:Beginners Pickleball League Meeting
DESCRIPTION:It's Pickleball Time in Marion County !!!!\nMCECS will be hosti
 ng our next Beginners Pickleball League starting with an orientation on Th
 ursday February 5th at 6:00 pm at the Event Center. There are only 16 spot
 s available\, so if you're interested sign up as quick.\n*Membership or Da
 ypass Required to Participate.\nCome to the Event Center to Sign Up!!!\nFi
 nd the MCECS on Facebook HERE
ATTACH;FMTTYPE=image/jpeg:https://visitlebanonky.com/wp-content/uploads/20
 26/01/PICKELBALL.jpg
CATEGORIES:Community
LOCATION:Marion County Event Center and Sportsplex\, 101 Independence Drive
  \, LEBANON\, KY\, 40033\, Marion County\, United States
X-APPLE-STRUCTURED-LOCATION;VALUE=URI;X-ADDRESS=101 Independence Drive \, L
 EBANON\, KY\, 40033\, Marion County\, United States;X-APPLE-RADIUS=100;X-T
 ITLE=Marion County Event Center and Sportsplex:geo:0,0
END:VEVENT
BEGIN:VTIMEZONE
TZID:America/Kentucky/Louisville
X-LIC-LOCATION:America/Kentucky/Louisville
BEGIN:STANDARD
DTSTART:20251102T010000
TZOFFSETFROM:-0400
TZOFFSETTO:-0500
TZNAME:EST
END:STANDARD
END:VTIMEZONE
END:VCALENDAR