BEGIN:VCALENDAR
VERSION:2.0
PRODID:-//wp-events-plugin.com//7.2.3.1//EN
BEGIN:VEVENT
UID:8874@visitlebanonky.com
DTSTART;TZID=America/Kentucky/Louisville:20260215T140000
DTEND;TZID=America/Kentucky/Louisville:20260215T170000
DTSTAMP:20260213T181833Z
URL:https://visitlebanonky.com/events/benefit-bunco-for-the-late-karen-cal
 houn/
SUMMARY:Benefit Bunco For The Late Karen Calhoun
DESCRIPTION:A benefit bunco will be held for the family of Karen Calhoun on
  Sunday\, February 15\, 2026 at the Knights of Columbus Hall in Lebanon fr
 om 2-5 p.m. Lunch will be served. Doors open at 1:30 p.m. A $10 donation i
 s requested.
ATTACH;FMTTYPE=image/jpeg:https://visitlebanonky.com/wp-content/uploads/20
 26/02/bunco-e1771006675238.jpg
CATEGORIES:Community
LOCATION:Knights of Columbus Hall\, 600 South Spalding Ave.\, Lebanon\, Ken
 tucky\, 40033\, Marion County\, United States
GEO:37.56278;-85.246128
X-APPLE-STRUCTURED-LOCATION;VALUE=URI;X-ADDRESS=600 South Spalding Ave.\, L
 ebanon\, Kentucky\, 40033\, Marion County\, United States;X-APPLE-RADIUS=1
 00;X-TITLE=Knights of Columbus Hall:geo:37.56278,-85.246128
END:VEVENT
BEGIN:VTIMEZONE
TZID:America/Kentucky/Louisville
X-LIC-LOCATION:America/Kentucky/Louisville
BEGIN:STANDARD
DTSTART:20251102T010000
TZOFFSETFROM:-0400
TZOFFSETTO:-0500
TZNAME:EST
END:STANDARD
END:VTIMEZONE
END:VCALENDAR