BEGIN:VCALENDAR
VERSION:2.0
PRODID:-//wp-events-plugin.com//7.2.3.1//EN
BEGIN:VEVENT
UID:8172@visitlebanonky.com
DTSTART;TZID=America/Kentucky/Louisville:20251129T000000
DTEND;TZID=America/Kentucky/Louisville:20251129T000000
DTSTAMP:20251029T001835Z
URL:https://visitlebanonky.com/events/benefit-dance-and-auction/
SUMMARY:Benefit Dance and Auction
DESCRIPTION:
ATTACH;FMTTYPE=image/jpeg:https://visitlebanonky.com/wp-content/uploads/20
 25/10/king-benefit.jpg
CATEGORIES:Community
LOCATION:The Pines Restaurant and Bar\, 62220 Bradfordsville Road\, Lebanon
 \, KY/Marion\, 40033\, Marion County\, United States
GEO:42.03417;-91.59768
X-APPLE-STRUCTURED-LOCATION;VALUE=URI;X-ADDRESS=62220 Bradfordsville Road\,
  Lebanon\, KY/Marion\, 40033\, Marion County\, United States;X-APPLE-RADIU
 S=100;X-TITLE=The Pines Restaurant and Bar:geo:42.03417,-91.59768
END:VEVENT
BEGIN:VTIMEZONE
TZID:America/Kentucky/Louisville
X-LIC-LOCATION:America/Kentucky/Louisville
BEGIN:STANDARD
DTSTART:20251102T010000
TZOFFSETFROM:-0400
TZOFFSETTO:-0500
TZNAME:EST
END:STANDARD
END:VTIMEZONE
END:VCALENDAR