BEGIN:VCALENDAR
VERSION:2.0
PRODID:-//wp-events-plugin.com//7.2.3.1//EN
BEGIN:VEVENT
UID:5942@visitlebanonky.com
DTSTART;TZID=America/Kentucky/Louisville:20240810T120000
DTEND;TZID=America/Kentucky/Louisville:20240810T234500
DTSTAMP:20240725T001723Z
URL:https://visitlebanonky.com/events/benefit-ride-auction-and-dance-for-t
 he-late-eddie-ryan/
SUMMARY:Benefit Ride\, Auction and Dance for the late Eddie Ryan
DESCRIPTION:
ATTACH;FMTTYPE=image/jpeg:https://visitlebanonky.com/wp-content/uploads/20
 24/07/eddie-ryan.jpg
CATEGORIES:Community
LOCATION:The Pines Restaurant and Bar\, 62220 Bradfordsville Road\, Lebanon
 \, KY/Marion\, 40033\, Marion County\, United States
GEO:42.03417;-91.59768
X-APPLE-STRUCTURED-LOCATION;VALUE=URI;X-ADDRESS=62220 Bradfordsville Road\,
  Lebanon\, KY/Marion\, 40033\, Marion County\, United States;X-APPLE-RADIU
 S=100;X-TITLE=The Pines Restaurant and Bar:geo:42.03417,-91.59768
END:VEVENT
BEGIN:VTIMEZONE
TZID:America/Kentucky/Louisville
X-LIC-LOCATION:America/Kentucky/Louisville
BEGIN:DAYLIGHT
DTSTART:20240310T030000
TZOFFSETFROM:-0500
TZOFFSETTO:-0400
TZNAME:EDT
END:DAYLIGHT
END:VTIMEZONE
END:VCALENDAR