BEGIN:VCALENDAR
VERSION:2.0
PRODID:-//wp-events-plugin.com//7.2.3.1//EN
BEGIN:VEVENT
UID:9196@visitlebanonky.com
DTSTART;TZID=America/Kentucky/Louisville:20260621T180000
DTEND;TZID=America/Kentucky/Louisville:20260625T200000
DTSTAMP:20260417T194718Z
URL:https://visitlebanonky.com/events/bible-school-2/
SUMMARY:Bible School
DESCRIPTION:Save The Date 💡 ❣️\n🌈✨ WE ARE SO EXCITED FOR VBS 20
 26!! ✨🌈\nGet ready for an unforgettable week at Woodlawn Baptist Chur
 ch as we dive into\n💡 ILLUMINATION STATION – “Shining a light on wh
 o Jesus really is!” (John 8:12)\n📅 June 21–24\, 2026\n⏰ 6:00 – 
 8:00 PM each evening\n🎉 This is going to be a week FULL of:\n🎶 High-
 energy music\n🎨 Creative crafts\n🎯 Fun games\n📖 Engaging Bible le
 ssons\n🍪 Snacks & smiles all around!\n💛 Open to ALL children — so 
 invite your friends\, neighbors\, classmates…everyone is welcome!\nWe ca
 nnot wait to see these kids light up as they learn about Jesus\, the Light
  of the World! 💡\nYou can find this and other events at the church on F
 acebook HERE
ATTACH;FMTTYPE=image/jpeg:https://visitlebanonky.com/wp-content/uploads/20
 26/04/bible-school-woodlawn.jpg
CATEGORIES:Official
LOCATION:Woodlawn Baptist Church\, 341 Hood Avenue\, Lebanon\, Kentucky\, 4
 0033\, Marion County\, United States
GEO:37.574539;-85.250422
X-APPLE-STRUCTURED-LOCATION;VALUE=URI;X-ADDRESS=341 Hood Avenue\, Lebanon\,
  Kentucky\, 40033\, Marion County\, United States;X-APPLE-RADIUS=100;X-TIT
 LE=Woodlawn Baptist Church:geo:37.574539,-85.250422
END:VEVENT
BEGIN:VTIMEZONE
TZID:America/Kentucky/Louisville
X-LIC-LOCATION:America/Kentucky/Louisville
BEGIN:DAYLIGHT
DTSTART:20260308T030000
TZOFFSETFROM:-0500
TZOFFSETTO:-0400
TZNAME:EDT
END:DAYLIGHT
END:VTIMEZONE
END:VCALENDAR