BEGIN:VCALENDAR
VERSION:2.0
PRODID:-//wp-events-plugin.com//7.2.3.1//EN
BEGIN:VEVENT
UID:9195@visitlebanonky.com
DTSTART;TZID=America/Kentucky/Louisville:20260531T000000
DTEND;TZID=America/Kentucky/Louisville:20260605T000000
DTSTAMP:20260417T193028Z
URL:https://visitlebanonky.com/events/bible-school/
SUMMARY:Bible School
DESCRIPTION:✨🎉 SAVE THE DATE! VBS is coming and it’s going to SHINE!
  🎉✨\nGet ready for an unforgettable week at Bradfordsville Baptist Ch
 urch as we kick off Vacation Bible School using Lifeway’s Illumination S
 tation! 🌟📖\n🗓 VBS Dates: May 31 – June 4\n🎓 Commencement Cel
 ebration: June 5\nEach night will be filled with exciting Bible adventures
 \, fun music\, hands-on activities\, and meaningful lessons that will help
  kids discover how to shine God’s light in the world! 💡💛\nBring yo
 ur friends\, invite your neighbors\, and make plans NOW to be part of some
 thing special. You won’t want to miss it!\n📌 Mark your calendars and 
 follow the church HERE on Facebook for times and more information.
ATTACH;FMTTYPE=image/jpeg:https://visitlebanonky.com/wp-content/uploads/20
 26/04/bville-bible-school.jpg
CATEGORIES:Community
LOCATION:Bradfordsville Baptist Church\, 405 W Main St\, Bradfordsville\, K
 entucky\, 40009\, Marion County\, United States
X-APPLE-STRUCTURED-LOCATION;VALUE=URI;X-ADDRESS=405 W Main St\, Bradfordsvi
 lle\, Kentucky\, 40009\, Marion County\, United States;X-APPLE-RADIUS=100;
 X-TITLE=Bradfordsville Baptist Church:geo:0,0
END:VEVENT
BEGIN:VTIMEZONE
TZID:America/Kentucky/Louisville
X-LIC-LOCATION:America/Kentucky/Louisville
BEGIN:DAYLIGHT
DTSTART:20260308T030000
TZOFFSETFROM:-0500
TZOFFSETTO:-0400
TZNAME:EDT
END:DAYLIGHT
END:VTIMEZONE
END:VCALENDAR