BEGIN:VCALENDAR
VERSION:2.0
PRODID:-//wp-events-plugin.com//7.2.3.1//EN
BEGIN:VEVENT
UID:8650@visitlebanonky.com
DTSTART;TZID=America/Kentucky/Louisville:20260215T133000
DTEND;TZID=America/Kentucky/Louisville:20260215T150000
DTSTAMP:20260117T215853Z
URL:https://visitlebanonky.com/events/bible-study-2/
SUMMARY:Bible Study
DESCRIPTION:🌿 Ladies of all ages\, as we enter this Lenten season\, you
 ’re invited to draw closer to Christ through Scripture and sisterhood.  
 \nWe’re offering two Bible study options this year\, so you can choose t
 he one that best fits your schedule and spiritual journey.\n💜 Register 
 HERE Lenten Opportunities for Women  \nLet’s walk through Lent together 
 — growing in faith\, supporting one another\, and making room for God to
  speak to our hearts.
ATTACH;FMTTYPE=image/jpeg:https://visitlebanonky.com/wp-content/uploads/20
 26/01/st-a.jpg
CATEGORIES:Community
LOCATION:Holy Name of Mary Catholic Church\, 3295  Highway 208\, Lebanon\, 
 Kentucky\, 40033\, Marion\, United States
GEO:37.516595;-85.267904
X-APPLE-STRUCTURED-LOCATION;VALUE=URI;X-ADDRESS=3295  Highway 208\, Lebanon
 \, Kentucky\, 40033\, Marion\, United States;X-APPLE-RADIUS=100;X-TITLE=Ho
 ly Name of Mary Catholic Church:geo:37.516595,-85.267904
END:VEVENT
BEGIN:VTIMEZONE
TZID:America/Kentucky/Louisville
X-LIC-LOCATION:America/Kentucky/Louisville
BEGIN:STANDARD
DTSTART:20251102T010000
TZOFFSETFROM:-0400
TZOFFSETTO:-0500
TZNAME:EST
END:STANDARD
END:VTIMEZONE
END:VCALENDAR