BEGIN:VCALENDAR
VERSION:2.0
PRODID:-//wp-events-plugin.com//7.2.3.1//EN
BEGIN:VEVENT
UID:8649@visitlebanonky.com
DTSTART;TZID=America/Kentucky/Louisville:20260224T180000
DTEND;TZID=America/Kentucky/Louisville:20260224T193000
DTSTAMP:20260117T215655Z
URL:https://visitlebanonky.com/events/bible-study/
SUMMARY:Bible Study
DESCRIPTION:🌿 Ladies of all ages\, as we enter this Lenten season\, you
 ’re invited to draw closer to Christ through Scripture and sisterhood.  
 \nWe’re offering two Bible study options this year\, so you can choose t
 he one that best fits your schedule and spiritual journey.\n💜 Register 
 HERE Lenten Opportunities for Women  \nLet’s walk through Lent together 
 — growing in faith\, supporting one another\, and making room for God to
  speak to our hearts.
ATTACH;FMTTYPE=image/jpeg:https://visitlebanonky.com/wp-content/uploads/20
 26/01/st-a.jpg
CATEGORIES:Community
LOCATION:St. Augustine Catholic Church\, 235 S. Spalding Ave.\, Lebanon\, K
 Y/Marion\, 40033\, Marion County\, United States
X-APPLE-STRUCTURED-LOCATION;VALUE=URI;X-ADDRESS=235 S. Spalding Ave.\, Leba
 non\, KY/Marion\, 40033\, Marion County\, United States;X-APPLE-RADIUS=100
 ;X-TITLE=St. Augustine Catholic Church:geo:0,0
END:VEVENT
BEGIN:VTIMEZONE
TZID:America/Kentucky/Louisville
X-LIC-LOCATION:America/Kentucky/Louisville
BEGIN:STANDARD
DTSTART:20251102T010000
TZOFFSETFROM:-0400
TZOFFSETTO:-0500
TZNAME:EST
END:STANDARD
END:VTIMEZONE
END:VCALENDAR