BEGIN:VCALENDAR
VERSION:2.0
PRODID:-//wp-events-plugin.com//7.2.3.1//EN
BEGIN:VEVENT
UID:7811@visitlebanonky.com
DTSTART;TZID=America/Kentucky/Louisville:20250802T070000
DTEND;TZID=America/Kentucky/Louisville:20250802T100000
DTSTAMP:20250728T201159Z
URL:https://visitlebanonky.com/events/big-breakfast-at-gravel-switch-7/
SUMMARY:Big Breakfast at Gravel Switch
DESCRIPTION:GRAVEL SWITCH\, KY — TW Wash Lodge #430 F&AM is inviting the 
 community to come hungry on Saturday\, August 2 for a hearty\, all-you-can
 -eat breakfast at the Gravel Switch Community Center.\nThe breakfast will 
 be served from 7:00 to 10:00 a.m. and promises a wide array of classic Sou
 thern favorites. The menu includes pancakes and sausage\, bacon and eggs\,
  hash brown casserole\, fried apples\, biscuits and gravy\, fruit salad\, 
 fresh tomatoes\, and more.\nAdmission is just $10 for adults and $5 for ch
 ildren 12 and under\, making it a delicious and affordable way to start th
 e weekend.\nOrganizers say the breakfast is more than just a fundraiser 
 — it’s a chance for neighbors and friends to gather\, share a meal\, a
 nd support the work of the local Masonic lodge in the Gravel Switch area.\
 nAll proceeds will benefit the ongoing charitable efforts and community se
 rvice projects led by TW Wash Lodge #430.\nFor a warm plate and a warm wel
 come\, head to the Gravel Switch Community Center on August 2.\n 
ATTACH;FMTTYPE=image/jpeg:https://visitlebanonky.com/wp-content/uploads/20
 23/06/big-breakfast-2.jpg
CATEGORIES:Community
LOCATION:Gravel Switch Community Center\, 640 Gravel Switch Road\, Gravel S
 witch\, Kentucky\, 40328\, Marion County\, United States
GEO:37.579979;-85.05265
X-APPLE-STRUCTURED-LOCATION;VALUE=URI;X-ADDRESS=640 Gravel Switch Road\, Gr
 avel Switch\, Kentucky\, 40328\, Marion County\, United States;X-APPLE-RAD
 IUS=100;X-TITLE=Gravel Switch Community Center:geo:37.579979,-85.05265
END:VEVENT
BEGIN:VTIMEZONE
TZID:America/Kentucky/Louisville
X-LIC-LOCATION:America/Kentucky/Louisville
BEGIN:DAYLIGHT
DTSTART:20250309T030000
TZOFFSETFROM:-0500
TZOFFSETTO:-0400
TZNAME:EDT
END:DAYLIGHT
END:VTIMEZONE
END:VCALENDAR