BEGIN:VCALENDAR
VERSION:2.0
PRODID:-//wp-events-plugin.com//7.2.3.1//EN
BEGIN:VEVENT
UID:8078@visitlebanonky.com
DTSTART;TZID=America/Kentucky/Louisville:20251004T070000
DTEND;TZID=America/Kentucky/Louisville:20251004T100000
DTSTAMP:20251004T034852Z
URL:https://visitlebanonky.com/events/big-breakfast-at-gravel-switch-9/
SUMMARY:Big Breakfast at Gravel Switch
DESCRIPTION:On Saturday\, October 4\, TW Wash Lodge #430\, F&AM\, wil be sp
 onsoring an all you can eat breakfast at the Gravel Switch Community Cente
 r.\nThe menu includes pancakes and sausage\, bacon and eggs\, fried bologn
 a\, hash brown casserole\, fried apples\, biscuits and gravy\, fruit and f
 resh tomatoes\, and more!\nThe hours are 7 until 10\, with a cost of $10 f
 or adults\, and $5 for kids 12 and under.\n 
ATTACH;FMTTYPE=image/jpeg:https://visitlebanonky.com/wp-content/uploads/20
 23/06/big-breakfast-2.jpg
CATEGORIES:Community
LOCATION:Gravel Switch Community Center\, 640 Gravel Switch Road\, Gravel S
 witch\, Kentucky\, 40328\, Marion County\, United States
GEO:37.579979;-85.05265
X-APPLE-STRUCTURED-LOCATION;VALUE=URI;X-ADDRESS=640 Gravel Switch Road\, Gr
 avel Switch\, Kentucky\, 40328\, Marion County\, United States;X-APPLE-RAD
 IUS=100;X-TITLE=Gravel Switch Community Center:geo:37.579979,-85.05265
END:VEVENT
BEGIN:VTIMEZONE
TZID:America/Kentucky/Louisville
X-LIC-LOCATION:America/Kentucky/Louisville
BEGIN:DAYLIGHT
DTSTART:20250309T030000
TZOFFSETFROM:-0500
TZOFFSETTO:-0400
TZNAME:EDT
END:DAYLIGHT
END:VTIMEZONE
END:VCALENDAR