BEGIN:VCALENDAR
VERSION:2.0
PRODID:-//wp-events-plugin.com//7.2.3.1//EN
BEGIN:VEVENT
UID:8516@visitlebanonky.com
DTSTART;TZID=America/Kentucky/Louisville:20260321T100000
DTEND;TZID=America/Kentucky/Louisville:20260322T170000
DTSTAMP:20260317T172841Z
URL:https://visitlebanonky.com/events/blessed-imbolc-gathering/
SUMMARY:The Hearthside Artisan Gatherin
DESCRIPTION:You can find this event on Facebook HERE\nSaturday 9 a.m. to 5 
 p.m. and Sunday 11 a.m. to 5 p.m.\nWhen the frost loosens its grip and the
  first green returns to the hedgerows\, we gather.\nThe Hearthside Artisan
  Gatherin is a springtide meetin of Artisans\, makers\, growers\, healers\
 , and wanderers. A place where hands that craft\, cook\, carve\, and tend 
 come together beneath one roof to share their work\, their stories\, and t
 heir warmth.\nYou’ll find artisans an makers\, good food\, laughter of c
 hildren\, and the quiet work of those who tend energy and plant wisdom. He
 rbs\, teachins\, and the small\, forgotten ways of the land will be shared
  beside painted faces\, hearth-born goods\, and the simple joy of communit
 y.\nThis is not merely a market…\nIt is a gatherin.\nA place to slow\, t
 o listen\, and to remember.\nCome walk the aisles as you would a woodland 
 trail.\nCome meet the hands behind the craft.\nCome sit awhile by the hear
 th of spring’s return.\nWHERE: Saint Joe Community Center\n3300 saint jo
 e rd Raywick\, Ky\nIf your interested in bein a Artistian/Maker or want to
  offer facepainting\, henna\, or a spot for sharin what ya know\, reach ou
 t to Sage Blair 270-608-9993 text is best or reach via facebook or\nemail 
 Naturesforgottenwhispers@gmail.com\nyou may reach out to any of the cohost
  as well.
ATTACH;FMTTYPE=image/jpeg:https://visitlebanonky.com/wp-content/uploads/20
 26/01/blessed.jpg
CATEGORIES:Community
LOCATION:St Joe Community Center\, 3300 St. Joe Rd.\, Raywick\, Kentucky\, 
 40060\, Marion County\, United States
GEO:37.523808;-85.388584
X-APPLE-STRUCTURED-LOCATION;VALUE=URI;X-ADDRESS=3300 St. Joe Rd.\, Raywick\
 , Kentucky\, 40060\, Marion County\, United States;X-APPLE-RADIUS=100;X-TI
 TLE=St Joe Community Center:geo:37.523808,-85.388584
END:VEVENT
BEGIN:VTIMEZONE
TZID:America/Kentucky/Louisville
X-LIC-LOCATION:America/Kentucky/Louisville
BEGIN:DAYLIGHT
DTSTART:20260308T030000
TZOFFSETFROM:-0500
TZOFFSETTO:-0400
TZNAME:EDT
END:DAYLIGHT
END:VTIMEZONE
END:VCALENDAR