BEGIN:VCALENDAR
VERSION:2.0
PRODID:-//wp-events-plugin.com//7.2.3.1//EN
BEGIN:VEVENT
UID:7875@visitlebanonky.com
DTSTART;TZID=America/Kentucky/Louisville:20250830T000000
DTEND;TZID=America/Kentucky/Louisville:20250831T000000
DTSTAMP:20250825T195100Z
URL:https://visitlebanonky.com/events/block-party-weekend/
SUMMARY:Block Party Weekend
DESCRIPTION:Block party will be on M.L. King near the pavilion area.
ATTACH;FMTTYPE=image/jpeg:https://visitlebanonky.com/wp-content/uploads/20
 25/08/block-party.jpg
CATEGORIES:Community
LOCATION:Farmers Market Pavilion\, 230 W ML King Ave\, Lebanon\, Kentucky\,
  40033\, Marion County\, United States
GEO:37.570271;-85.254227
X-APPLE-STRUCTURED-LOCATION;VALUE=URI;X-ADDRESS=230 W ML King Ave\, Lebanon
 \, Kentucky\, 40033\, Marion County\, United States;X-APPLE-RADIUS=100;X-T
 ITLE=Farmers Market Pavilion:geo:37.570271,-85.254227
END:VEVENT
BEGIN:VTIMEZONE
TZID:America/Kentucky/Louisville
X-LIC-LOCATION:America/Kentucky/Louisville
BEGIN:DAYLIGHT
DTSTART:20250309T030000
TZOFFSETFROM:-0500
TZOFFSETTO:-0400
TZNAME:EDT
END:DAYLIGHT
END:VTIMEZONE
END:VCALENDAR