BEGIN:VCALENDAR
VERSION:2.0
PRODID:-//wp-events-plugin.com//7.2.3.1//EN
BEGIN:VEVENT
UID:6592@visitlebanonky.com
DTSTART;TZID=America/Kentucky/Louisville:20241222T180000
DTEND;TZID=America/Kentucky/Louisville:20241222T193000
DTSTAMP:20241209T202853Z
URL:https://visitlebanonky.com/events/blue-christmas-service/
SUMMARY:Blue Christmas Service
DESCRIPTION:A service offering a sacred space to remember loved ones who ha
 ve passed\, name losses and griefs from the previous year\, and recognize 
 disappointments\, loneliness\, or fears. You can find this event on Facebo
 ok at https://www.facebook.com/share/6SHd2pRELy7PCShd/ .
ATTACH;FMTTYPE=image/jpeg:https://visitlebanonky.com/wp-content/uploads/20
 24/12/blue-xmas.jpg
CATEGORIES:Community
LOCATION:Lebanon Methodist Church\, 236 N Spalding Avenue \, Lebanon\, Kent
 ucky\, 40033\, Marion County\, United States
GEO:37.572108;-85.253871
X-APPLE-STRUCTURED-LOCATION;VALUE=URI;X-ADDRESS=236 N Spalding Avenue \, Le
 banon\, Kentucky\, 40033\, Marion County\, United States;X-APPLE-RADIUS=10
 0;X-TITLE=Lebanon Methodist Church:geo:37.572108,-85.253871
END:VEVENT
BEGIN:VTIMEZONE
TZID:America/Kentucky/Louisville
X-LIC-LOCATION:America/Kentucky/Louisville
BEGIN:STANDARD
DTSTART:20241103T010000
TZOFFSETFROM:-0400
TZOFFSETTO:-0500
TZNAME:EST
END:STANDARD
END:VTIMEZONE
END:VCALENDAR