BEGIN:VCALENDAR
VERSION:2.0
PRODID:-//wp-events-plugin.com//7.2.3.1//EN
BEGIN:VEVENT
UID:8326@visitlebanonky.com
DTSTART;TZID=America/Kentucky/Louisville:20251203T110000
DTEND;TZID=America/Kentucky/Louisville:20251203T130000
DTSTAMP:20251114T012656Z
URL:https://visitlebanonky.com/events/book-and-chocolate-exchange/
SUMMARY:Book and Chocolate Exchange
DESCRIPTION:Join us on December 3rd from 11AM - 1PM for our third annual Bo
 ok & Chocolate Exchange!  Bring a new or gently used book to swap\, and yo
 ur favorite chocolate!  \nJolabokaflod is an Islandic tradition that began
  after WWII when many nations were rebuilding their economies.  Although m
 any things were hard to come by during this time\, the Icelandic people ha
 d plenty of paper\, and a love of literature.  Thus a tradition began\, la
 ter adding in chocolate to sweeten the deal.\nAs librarians\, we love this
  tradition and think the Icelanders may be on to something.   We would lik
 e to share this tradition with our community.  We hope you love it as much
  as we do.
ATTACH;FMTTYPE=image/jpeg:https://visitlebanonky.com/wp-content/uploads/20
 25/11/book-and-chocolate.jpg
CATEGORIES:Community
LOCATION:Marion County Public Library\, 201 E Main St\, Lebanon\, KY/Marion
 \, 40033\, Marion County\, United States
X-APPLE-STRUCTURED-LOCATION;VALUE=URI;X-ADDRESS=201 E Main St\, Lebanon\, K
 Y/Marion\, 40033\, Marion County\, United States;X-APPLE-RADIUS=100;X-TITL
 E=Marion County Public Library:geo:0,0
END:VEVENT
BEGIN:VTIMEZONE
TZID:America/Kentucky/Louisville
X-LIC-LOCATION:America/Kentucky/Louisville
BEGIN:STANDARD
DTSTART:20251102T010000
TZOFFSETFROM:-0400
TZOFFSETTO:-0500
TZNAME:EST
END:STANDARD
END:VTIMEZONE
END:VCALENDAR