BEGIN:VCALENDAR
VERSION:2.0
PRODID:-//wp-events-plugin.com//7.2.3.1//EN
BEGIN:VEVENT
UID:8876@visitlebanonky.com
DTSTART;TZID=America/Kentucky/Louisville:20260225T180000
DTEND;TZID=America/Kentucky/Louisville:20260225T200000
DTSTAMP:20260219T141217Z
URL:https://visitlebanonky.com/events/bookish-buddies-a-book-club-brewed-f
 or-community-2/
SUMMARY:Bookish Buddies - A Book Club Brewed For Community
DESCRIPTION:Join at @goodbuddiesbrewingco Good Buddies Brewing Co. for our 
 next Bookish Buddies Book club!  We will meet on  Feb. 25th at 6PM.  The r
 ead will be "The Daughter of Auschwitz" by Malcolm Brabant and Tova Friedm
 an.  Be sure to check out the brew and burger too!
ATTACH;FMTTYPE=image/jpeg:https://visitlebanonky.com/wp-content/uploads/20
 26/02/bookish-buddies.jpg
CATEGORIES:Community
LOCATION:Good Buddies Brewing Company\, 104 Independence Drive\, LEBANON\, 
 KY\, 40033\, Marion County\, United States
X-APPLE-STRUCTURED-LOCATION;VALUE=URI;X-ADDRESS=104 Independence Drive\, LE
 BANON\, KY\, 40033\, Marion County\, United States;X-APPLE-RADIUS=100;X-TI
 TLE=Good Buddies Brewing Company:geo:0,0
END:VEVENT
BEGIN:VTIMEZONE
TZID:America/Kentucky/Louisville
X-LIC-LOCATION:America/Kentucky/Louisville
BEGIN:STANDARD
DTSTART:20251102T010000
TZOFFSETFROM:-0400
TZOFFSETTO:-0500
TZNAME:EST
END:STANDARD
END:VTIMEZONE
END:VCALENDAR