BEGIN:VCALENDAR
VERSION:2.0
PRODID:-//wp-events-plugin.com//7.2.3.1//EN
BEGIN:VEVENT
UID:8518@visitlebanonky.com
DTSTART;TZID=America/Kentucky/Louisville:20260321T190000
DTEND;TZID=America/Kentucky/Louisville:20260321T234500
DTSTAMP:20260219T213707Z
URL:https://visitlebanonky.com/events/bourbon-boots-st-augustine-spring-fl
 ing/
SUMMARY:Bourbon & Boots- St. Augustine Spring Fling
DESCRIPTION:Follow on Facebook HERE\n\nY’all are invited! Grab your frien
 ds\, dust off your boots\, and join us for an unforgettable night benefiti
 ng St. Augustine Catholic School!\n📍 Venue 68\n212 W. Main Street\nLeba
 non\, KY 40033\n📅 March 21\, 2026\n🕖 7:00 PM\nThis is an OPEN event 
 — the entire community is welcome to attend this very important fundrais
 er that supports our students and school mission.\n🎟 Tickets\n$45 per p
 erson\n$360 for a table of 8\nYour ticket includes:\n✔ Dinner\n✔ Open 
 Bar\n✔ Live Music\n✔ Games & Prizes (including Best Dressed!)\n✔ A n
 ight of fun for a great cause\n🎯 Chance to WIN $10\,000!\nRaffle ticket
 s are $100 each\nOnly 350 tickets will be sold — when they’re gone\, t
 hey’re gone!\nPurchase tickets HERE\n —or at the school office.\n🤠 
 We Need Your Help!\nWe are currently accepting donations for:\n🥃 FULL b
 ottles of bourbon (for auction & Bourbon Wall)\n🥃 EMPTY bottles (for d
 écor)\n🎁 Silent auction items (experiences\, services\, gift cards\, t
 hemed baskets\, etc.)\nOur online silent auction will open 14 days prior t
 o the event\, so now is the perfect time to contribute!
ATTACH;FMTTYPE=image/jpeg:https://visitlebanonky.com/wp-content/uploads/20
 26/01/bourbon-and-boots.jpg
CATEGORIES:Community
LOCATION:Venue 68\, 212 W Main St\, Lebanon\, KY/Marion\, 40033\, United St
 ates
X-APPLE-STRUCTURED-LOCATION;VALUE=URI;X-ADDRESS=212 W Main St\, Lebanon\, K
 Y/Marion\, 40033\, United States;X-APPLE-RADIUS=100;X-TITLE=Venue 68:geo:0
 ,0
END:VEVENT
BEGIN:VTIMEZONE
TZID:America/Kentucky/Louisville
X-LIC-LOCATION:America/Kentucky/Louisville
BEGIN:DAYLIGHT
DTSTART:20260308T030000
TZOFFSETFROM:-0500
TZOFFSETTO:-0400
TZNAME:EDT
END:DAYLIGHT
END:VTIMEZONE
END:VCALENDAR