BEGIN:VCALENDAR
VERSION:2.0
PRODID:-//wp-events-plugin.com//7.2.3.1//EN
BEGIN:VEVENT
UID:8077@visitlebanonky.com
DTSTART;TZID=America/Kentucky/Louisville:20251003T000000
DTEND;TZID=America/Kentucky/Louisville:20251004T000000
DTSTAMP:20251002T015841Z
URL:https://visitlebanonky.com/events/bourbon-chase/
SUMMARY:Bourbon Chase
DESCRIPTION:Watch out for Bourbon Chase runners Friday \nThey are going to 
 Makers Mark and Limestone in Marion County. \nThe Bourbon Chase will run f
 rom Clermont to Lexington (passing through Marion County Oct. 3-4. ) Major
  Exchange and Finish Line Happenings are where Van 1 and Van 2 are reunite
 d. Expect sweet happenings and a festival like atmosphere fueled with part
 ner product\, demo experiences and more. Celebrate your victory with music
 \, dancing\, and bourbon sampling at the after party hosted by Town Branch
  Bourbon!\nStart Line. Jim Beam Distillery. Free spiked coffee with Jim Be
 am bourbon! Stop by the gift shop for samplings\, exclusive picks & limite
 d bottles to grab!\nHeaven Hill. Sample exclusive picks & bottles at the g
 ift shop! Grab something special and enjoy a selection of unique\, hand-pi
 cked spirits.\nExchange 6 Makers Mark Distillery (New this year\, first ti
 me since 2019)\nParty at Exchange 6! DJ announcer\, partner tents\, gear s
 tore\, and tons of fun await! Let’s make this the ultimate hangout!\nYel
 lowstone / Limestone Branch in Lebanon (New this year) Enjoy live music & 
 exciting tours! Come explore the vibe and soak in the entertainment all wh
 ile enjoying amazing drinks!\nWilderness Trail. Sample exclusive picks & b
 ottles at the gift shop! Don’t miss out on limited editions and perfect 
 gifts for yourself!\nExchange 12 Town of Danville  downtown Danville for l
 ive music\, food\, games\, and fun as over 2\,600 runners pass through tow
 n! 🌟\n🎵 Live music from The Mercury 7 (5:30–8:30 p.m.)\n🍔 Food 
 & drink vendors on Main Street\n🎲 Games\, entertainment\, and cheering 
 on runners\nRunners are expected to arrive by 7 p.m. at Weisiger Park. Str
 eets will close early for set‑up and safety. \nBluegrass Distillery at E
 lkwood Farms (New this year) Live entertainment\, food trucks\, yard games
 \, bourbon samplings & tours while you wait for your Ragnar Leg! Runners g
 et a mini-bottle + medal!\nEquus Run Vineyard and Saddlestone Distillery (
 New this year) First-ever winery on course! Enjoy food trucks\, live music
 \, scenic views\, and a cold creek to soak your feet while tasting wine\, 
 brandy & spirits!\nLexington Brewing & Distilling Company Finish Line Part
 y! Celebrate with music\, food trucks\, bourbon samples\, and the exciteme
 nt of the race all coming together for an epic finale!
CATEGORIES:Official
END:VEVENT
BEGIN:VTIMEZONE
TZID:America/Kentucky/Louisville
X-LIC-LOCATION:America/Kentucky/Louisville
BEGIN:DAYLIGHT
DTSTART:20250309T030000
TZOFFSETFROM:-0500
TZOFFSETTO:-0400
TZNAME:EDT
END:DAYLIGHT
END:VTIMEZONE
END:VCALENDAR