BEGIN:VCALENDAR
VERSION:2.0
PRODID:-//wp-events-plugin.com//7.2.3.1//EN
BEGIN:VEVENT
UID:7634@visitlebanonky.com
DTSTART;TZID=America/Kentucky/Louisville:20250529T000000
DTEND;TZID=America/Kentucky/Louisville:20250622T000000
DTSTAMP:20250529T051355Z
URL:https://visitlebanonky.com/events/bradfordsville-baseball-signups/
SUMMARY:Bradfordsville Baseball Signups
DESCRIPTION:Baseball signups are now online @leaguelineup Bradfordsville. J
 ust click baseball (NOT baseball2025) and it will bring up the sign-up for
 m. We will have in person signups 4pm-6pm on June 1\, June 8 and June 22. 
 you can also sign up at Old Mill Days June 14 all day at the blue concessi
 on stand\, Ages Pre K - 12 years old. Age is determined as of June 1\, 202
 5.\nThe older kids is coach pitch\, and this is an instructional league. A
 ny question just send us a message.
CATEGORIES:Community
LOCATION:Bradfordsville Park Pavilion\, S 6th Street\, Bradfordsville\, Ken
 tucky\, 40009\, Marion County\, United States
GEO:37.493811;-85.149391
X-APPLE-STRUCTURED-LOCATION;VALUE=URI;X-ADDRESS=S 6th Street\, Bradfordsvil
 le\, Kentucky\, 40009\, Marion County\, United States;X-APPLE-RADIUS=100;X
 -TITLE=Bradfordsville Park Pavilion:geo:37.493811,-85.149391
END:VEVENT
BEGIN:VTIMEZONE
TZID:America/Kentucky/Louisville
X-LIC-LOCATION:America/Kentucky/Louisville
BEGIN:DAYLIGHT
DTSTART:20250309T030000
TZOFFSETFROM:-0500
TZOFFSETTO:-0400
TZNAME:EDT
END:DAYLIGHT
END:VTIMEZONE
END:VCALENDAR