BEGIN:VCALENDAR
VERSION:2.0
PRODID:-//wp-events-plugin.com//7.2.3.1//EN
BEGIN:VEVENT
UID:8108@visitlebanonky.com
DTSTART;TZID=America/Kentucky/Louisville:20251024T000000
DTEND;TZID=America/Kentucky/Louisville:20251024T000000
DTSTAMP:20251021T235723Z
URL:https://visitlebanonky.com/events/bradfordsville-civic-center-chili-su
 pper/
SUMMARY:Bradfordsville Civic Center Chili Supper
DESCRIPTION:🌶️ Come hungry and support a great cause this Friday at th
 e Bradfordsville Civic Center Chili Supper! Doors open at 4:00 p.m. at 202
  West Main Street in Bradfordsville. For just $10\, adults can enjoy a hea
 rty meal of chili\, hot dog\, pimento or peanut butter sandwich\, drink\, 
 and dessert. Kids 12 and under eat for $6.\n🎉 The Civic Center is a cle
 an\, affordable space perfect for birthdays\, anniversaries\, showers\, an
 d more. It’s run by a dedicated non-profit group that hosts just two fun
 draisers a year—and this is one of them!\n👏 Your support helps keep t
 his valuable community resource going strong. So bring your appetite\, bri
 ng your friends\, and help make a difference this Friday night!
ATTACH;FMTTYPE=image/jpeg:https://visitlebanonky.com/wp-content/uploads/20
 25/10/chili-supper-1.jpg
CATEGORIES:Community
LOCATION:Bradfordsville Civic Center\, 202 West Main Street\, Bradfordsvill
 e\, Kentucky\, 40009\, Marion County\, United States
GEO:37.493774;-85.150323
X-APPLE-STRUCTURED-LOCATION;VALUE=URI;X-ADDRESS=202 West Main Street\, Brad
 fordsville\, Kentucky\, 40009\, Marion County\, United States;X-APPLE-RADI
 US=100;X-TITLE=Bradfordsville Civic Center:geo:37.493774,-85.150323
END:VEVENT
BEGIN:VTIMEZONE
TZID:America/Kentucky/Louisville
X-LIC-LOCATION:America/Kentucky/Louisville
BEGIN:DAYLIGHT
DTSTART:20250309T030000
TZOFFSETFROM:-0500
TZOFFSETTO:-0400
TZNAME:EDT
END:DAYLIGHT
END:VTIMEZONE
END:VCALENDAR