BEGIN:VCALENDAR
VERSION:2.0
PRODID:-//wp-events-plugin.com//7.2.3.1//EN
BEGIN:VEVENT
UID:7606@visitlebanonky.com
DTSTART;TZID=America/Kentucky/Louisville:20250614T130000
DTEND;TZID=America/Kentucky/Louisville:20250614T140000
DTSTAMP:20250516T192556Z
URL:https://visitlebanonky.com/events/bradfordsville-old-mill-days-tug-of-
 war-competition/
SUMMARY:Bradfordsville Old Mill Days Tug of War Competition
DESCRIPTION:In a battle of brawn’s who will come out on top??? Come watch
  as friends and foes battle it out in our Tug of War Competition. Any team
 s wanting to join in on the fun can find information on Facebook at https:
 //www.facebook.com/profile.php?id=100090369735034 or contact Troy Overstre
 et.
ATTACH;FMTTYPE=image/jpeg:https://visitlebanonky.com/wp-content/uploads/20
 25/05/tug-of-war.jpg
CATEGORIES:Community
LOCATION:Old Bradfordsville School Building\, 115 S 6th Street\, Bradfordsv
 ille\, Kentucky\, 40009\, United States
GEO:37.491772;-85.147819
X-APPLE-STRUCTURED-LOCATION;VALUE=URI;X-ADDRESS=115 S 6th Street\, Bradford
 sville\, Kentucky\, 40009\, United States;X-APPLE-RADIUS=100;X-TITLE=Old B
 radfordsville School Building:geo:37.491772,-85.147819
END:VEVENT
BEGIN:VTIMEZONE
TZID:America/Kentucky/Louisville
X-LIC-LOCATION:America/Kentucky/Louisville
BEGIN:DAYLIGHT
DTSTART:20250309T030000
TZOFFSETFROM:-0500
TZOFFSETTO:-0400
TZNAME:EDT
END:DAYLIGHT
END:VTIMEZONE
END:VCALENDAR