BEGIN:VCALENDAR
VERSION:2.0
PRODID:-//wp-events-plugin.com//7.2.3.1//EN
BEGIN:VEVENT
UID:6591@visitlebanonky.com
DTSTART;TZID=America/Kentucky/Louisville:20241213T170000
DTEND;TZID=America/Kentucky/Louisville:20241213T220000
DTSTAMP:20241211T173639Z
URL:https://visitlebanonky.com/events/bradfordsville-school-christmas-gala
 /
SUMMARY:Bradfordsville School Christmas Gala
DESCRIPTION:This Friday evening December 13\, 2024 is the  annual Christmas
  Gala of the Bradfordsville Community School Building\, 115 South Sixth St
 reet\, Bradfordsville\, Kentucky 40009.\n\nThe evening begins at 5 p.m. wi
 th the pork loin meal and all its fixings\, including drink and dessert\, 
 for $12. Admission to the music program is $10. The doors of the building 
 open at 5 p.m. and the music\, provided by Phillip Clarkson\, will be at 7
  p.m. Everyone loves the wonderful performances of Bradfordsville's own Ph
 illip Clarkson with Christmas music. You'll be so glad that you came for t
 his great experience. The joy of the season will be with you.\n     \nReme
 mber that the Bradfordsville School and Community Committee is a non-profi
 t that tries to maintain the old school building for such  presentations a
 s this throughout the year. Your attendance and participation helps to ins
 ure that we can continue to provide such for our community and central Ken
 tucky area. Health precautions are always maintained\, but masks are left 
 up to the individual.
ATTACH;FMTTYPE=image/jpeg:https://visitlebanonky.com/wp-content/uploads/20
 24/12/bville.jpg
CATEGORIES:Official
LOCATION:Old Bradfordsville School Building\, 115 S 6th Street\, Bradfordsv
 ille\, Kentucky\, 40009\, United States
GEO:37.491772;-85.147819
X-APPLE-STRUCTURED-LOCATION;VALUE=URI;X-ADDRESS=115 S 6th Street\, Bradford
 sville\, Kentucky\, 40009\, United States;X-APPLE-RADIUS=100;X-TITLE=Old B
 radfordsville School Building:geo:37.491772,-85.147819
END:VEVENT
BEGIN:VTIMEZONE
TZID:America/Kentucky/Louisville
X-LIC-LOCATION:America/Kentucky/Louisville
BEGIN:STANDARD
DTSTART:20241103T010000
TZOFFSETFROM:-0400
TZOFFSETTO:-0500
TZNAME:EST
END:STANDARD
END:VTIMEZONE
END:VCALENDAR