BEGIN:VCALENDAR
VERSION:2.0
PRODID:-//wp-events-plugin.com//7.2.3.1//EN
BEGIN:VEVENT
UID:9059@visitlebanonky.com
DTSTART;TZID=America/Kentucky/Louisville:20260329T140000
DTEND;TZID=America/Kentucky/Louisville:20260329T150000
DTSTAMP:20260317T044651Z
URL:https://visitlebanonky.com/events/bradfordsvilles-annual-easter-egg-hu
 nt-2/
SUMMARY:Bradfordsville's Annual Easter Egg Hunt
DESCRIPTION:You can follow this event on Facebook HERE\nThe Bradfordsville 
 Annual Easter Egg Hunt is for children 5th grade and younger.
ATTACH;FMTTYPE=image/jpeg:https://visitlebanonky.com/wp-content/uploads/20
 24/02/Bville-Easter-Egg-Hunt.gif
CATEGORIES:Community
LOCATION:Old Bradfordsville School Building\, 115 S 6th Street\, Bradfordsv
 ille\, Kentucky\, 40009\, United States
GEO:37.491772;-85.147819
X-APPLE-STRUCTURED-LOCATION;VALUE=URI;X-ADDRESS=115 S 6th Street\, Bradford
 sville\, Kentucky\, 40009\, United States;X-APPLE-RADIUS=100;X-TITLE=Old B
 radfordsville School Building:geo:37.491772,-85.147819
END:VEVENT
BEGIN:VTIMEZONE
TZID:America/Kentucky/Louisville
X-LIC-LOCATION:America/Kentucky/Louisville
BEGIN:DAYLIGHT
DTSTART:20260308T030000
TZOFFSETFROM:-0500
TZOFFSETTO:-0400
TZNAME:EDT
END:DAYLIGHT
END:VTIMEZONE
END:VCALENDAR