BEGIN:VCALENDAR
VERSION:2.0
PRODID:-//wp-events-plugin.com//7.2.3.1//EN
BEGIN:VEVENT
UID:9060@visitlebanonky.com
DTSTART;TZID=America/Kentucky/Louisville:20260612T000000
DTEND;TZID=America/Kentucky/Louisville:20260613T000000
DTSTAMP:20260317T045620Z
URL:https://visitlebanonky.com/events/bradfordsvilles-old-mill-days-2/
SUMMARY:Bradfordsville's Old Mill Days
DESCRIPTION:Find information on Facebook HERE\n\nLook in the community sect
 ion of this calendar for individual events.\n\nDuck Derby June 13 -Duck de
 rby tickets now available. Tickets can be purchased directly from committe
 e members or message on Facebook.
ATTACH;FMTTYPE=image/jpeg:https://visitlebanonky.com/wp-content/uploads/20
 26/03/OLD-MILL-DAYS.jpg
CATEGORIES:Official
LOCATION:Downtown Bradfordsville\, Main Street\, Bradfordsville\, Kentucky\
 , 40009\, Marion County\, United States
X-APPLE-STRUCTURED-LOCATION;VALUE=URI;X-ADDRESS=Main Street\, Bradfordsvill
 e\, Kentucky\, 40009\, Marion County\, United States;X-APPLE-RADIUS=100;X-
 TITLE=Downtown Bradfordsville:geo:0,0
END:VEVENT
BEGIN:VTIMEZONE
TZID:America/Kentucky/Louisville
X-LIC-LOCATION:America/Kentucky/Louisville
BEGIN:DAYLIGHT
DTSTART:20260308T030000
TZOFFSETFROM:-0500
TZOFFSETTO:-0400
TZNAME:EDT
END:DAYLIGHT
END:VTIMEZONE
END:VCALENDAR