BEGIN:VCALENDAR
VERSION:2.0
PRODID:-//wp-events-plugin.com//7.2.3.1//EN
BEGIN:VEVENT
UID:7640@visitlebanonky.com
DTSTART;TZID=America/Kentucky/Louisville:20250613T200000
DTEND;TZID=America/Kentucky/Louisville:20250613T220000
DTSTAMP:20250529T054136Z
URL:https://visitlebanonky.com/events/bradfordsvilles-old-mill-days-karaok
 e/
SUMMARY:Bradfordsville's Old Mill Days Karaoke
DESCRIPTION:Find information on Facebook at https://www.facebook.com/profil
 e.php?id=100090369735034\nIt’s going to be a night to remember… so get
  those vocal cords ready for Friday Night Karaoke!!!
ATTACH;FMTTYPE=image/jpeg:https://visitlebanonky.com/wp-content/uploads/20
 25/05/karaoke.jpg
CATEGORIES:Community
LOCATION:Bradfordsville Park\, S Sixth Street\, Bradfordsville\, KY\, 40009
 \, Marion County\, United States
X-APPLE-STRUCTURED-LOCATION;VALUE=URI;X-ADDRESS=S Sixth Street\, Bradfordsv
 ille\, KY\, 40009\, Marion County\, United States;X-APPLE-RADIUS=100;X-TIT
 LE=Bradfordsville Park:geo:0,0
END:VEVENT
BEGIN:VTIMEZONE
TZID:America/Kentucky/Louisville
X-LIC-LOCATION:America/Kentucky/Louisville
BEGIN:DAYLIGHT
DTSTART:20250309T030000
TZOFFSETFROM:-0500
TZOFFSETTO:-0400
TZNAME:EDT
END:DAYLIGHT
END:VTIMEZONE
END:VCALENDAR