BEGIN:VCALENDAR
VERSION:2.0
PRODID:-//wp-events-plugin.com//7.2.3.1//EN
BEGIN:VEVENT
UID:7611@visitlebanonky.com
DTSTART;TZID=America/Kentucky/Louisville:20250614T100000
DTEND;TZID=America/Kentucky/Louisville:20250614T200000
DTSTAMP:20250613T185823Z
URL:https://visitlebanonky.com/events/bradfordsvilles-old-mill-days-kids-z
 one/
SUMMARY:Bradfordsville's Old Mill Days Kids Zone _Note Rain Changes
DESCRIPTION:Find information on Facebook at https://www.facebook.com/profil
 e.php?id=100090369735034\n\nKids Zone is cancelled Friday due to weather. 
 It will move inside the school gym on Saturday.
ATTACH;FMTTYPE=image/jpeg:https://visitlebanonky.com/wp-content/uploads/20
 25/05/kid-zone-e1749841092689.jpg
CATEGORIES:Community
LOCATION:Bradfordsville Park\, S Sixth Street\, Bradfordsville\, KY\, 40009
 \, Marion County\, United States
X-APPLE-STRUCTURED-LOCATION;VALUE=URI;X-ADDRESS=S Sixth Street\, Bradfordsv
 ille\, KY\, 40009\, Marion County\, United States;X-APPLE-RADIUS=100;X-TIT
 LE=Bradfordsville Park:geo:0,0
END:VEVENT
BEGIN:VTIMEZONE
TZID:America/Kentucky/Louisville
X-LIC-LOCATION:America/Kentucky/Louisville
BEGIN:DAYLIGHT
DTSTART:20250309T030000
TZOFFSETFROM:-0500
TZOFFSETTO:-0400
TZNAME:EDT
END:DAYLIGHT
END:VTIMEZONE
END:VCALENDAR