BEGIN:VCALENDAR
VERSION:2.0
PRODID:-//wp-events-plugin.com//7.2.3.1//EN
BEGIN:VEVENT
UID:8444@visitlebanonky.com
DTSTART;TZID=America/Kentucky/Louisville:20251213T100000
DTEND;TZID=America/Kentucky/Louisville:20251213T113000
DTSTAMP:20251209T015142Z
URL:https://visitlebanonky.com/events/breakfast-with-santa/
SUMMARY:Breakfast With Santa
DESCRIPTION:Join us on Dec. 13 at 10 a.m. for Breakfast with Santa!  Kids a
 ges 0-12 are welcome.  We will have Santa with us for pictures and a Chris
 tmas story and there will be pancakes available. We can't wait to meet San
 ta with you 🎅🏻🎄Follow the library on Facebook HERE
ATTACH;FMTTYPE=image/jpeg:https://visitlebanonky.com/wp-content/uploads/20
 25/12/breakfast-with-santa.jpg
CATEGORIES:Community
LOCATION:Marion County Public Library\, 201 E Main St\, Lebanon\, KY/Marion
 \, 40033\, Marion County\, United States
X-APPLE-STRUCTURED-LOCATION;VALUE=URI;X-ADDRESS=201 E Main St\, Lebanon\, K
 Y/Marion\, 40033\, Marion County\, United States;X-APPLE-RADIUS=100;X-TITL
 E=Marion County Public Library:geo:0,0
END:VEVENT
BEGIN:VTIMEZONE
TZID:America/Kentucky/Louisville
X-LIC-LOCATION:America/Kentucky/Louisville
BEGIN:STANDARD
DTSTART:20251102T010000
TZOFFSETFROM:-0400
TZOFFSETTO:-0500
TZNAME:EST
END:STANDARD
END:VTIMEZONE
END:VCALENDAR