BEGIN:VCALENDAR
VERSION:2.0
PRODID:-//wp-events-plugin.com//7.2.3.1//EN
BEGIN:VEVENT
UID:9079@visitlebanonky.com
DTSTART;TZID=America/Kentucky/Louisville:20260328T000000
DTEND;TZID=America/Kentucky/Louisville:20260328T000000
DTSTAMP:20260319T045023Z
URL:https://visitlebanonky.com/events/cadillac-tractor-at-cozy-corner/
SUMMARY:Cadillac Tractor at Cozy Corner
DESCRIPTION:On March 28th\, Cadillac Tractor will take the stage at Cozy Co
 rner Bar & Grill\, with the performance starting at 9 p.m. and ending at 1
  a.m.
ATTACH;FMTTYPE=image/jpeg:https://visitlebanonky.com/wp-content/uploads/20
 26/03/CADILLAC-TRACTOR-AT-COZY.jpg
CATEGORIES:Community
LOCATION:Cozy Corner Restaurant\, 4950 Highway 52\, Loretto\, KY/Marion\, 4
 0037\, Marion County\, United States
X-APPLE-STRUCTURED-LOCATION;VALUE=URI;X-ADDRESS=4950 Highway 52\, Loretto\,
  KY/Marion\, 40037\, Marion County\, United States;X-APPLE-RADIUS=100;X-TI
 TLE=Cozy Corner Restaurant:geo:0,0
END:VEVENT
BEGIN:VTIMEZONE
TZID:America/Kentucky/Louisville
X-LIC-LOCATION:America/Kentucky/Louisville
BEGIN:DAYLIGHT
DTSTART:20260308T030000
TZOFFSETFROM:-0500
TZOFFSETTO:-0400
TZNAME:EDT
END:DAYLIGHT
END:VTIMEZONE
END:VCALENDAR