BEGIN:VCALENDAR
VERSION:2.0
PRODID:-//wp-events-plugin.com//7.2.3.1//EN
BEGIN:VEVENT
UID:5980@visitlebanonky.com
DTSTART;TZID=America/Kentucky/Louisville:20240825T120000
DTEND;TZID=America/Kentucky/Louisville:20240825T150000
DTSTAMP:20240809T184805Z
URL:https://visitlebanonky.com/events/cake-decorating-class-at-chasers-res
 taurant/
SUMMARY:Cake Decorating Class at Chasers Restaurant
DESCRIPTION:From Facebook at https://www.facebook.com/photo/?fbid=809031588
 7712624&set=a.269826639761627\n\nI've been keeping a secret recipe for fun
 \, but now it's time to share - I'm teaching cake decorating classes! 🥳
  Join me for a sweet time\, you won't want to miss it!\nTickets are presal
 e only!! We will not be offering tickets at the door
ATTACH;FMTTYPE=image/jpeg:https://visitlebanonky.com/wp-content/uploads/20
 24/08/cake-decorating.jpg
CATEGORIES:Community
LOCATION:Chasers Restaurant\, 110 N. Proctor Knott Ave.\, Lebanon\, Kentuck
 y\, 40033\, Marion County\, United States
GEO:37.56962;-85.25468
X-APPLE-STRUCTURED-LOCATION;VALUE=URI;X-ADDRESS=110 N. Proctor Knott Ave.\,
  Lebanon\, Kentucky\, 40033\, Marion County\, United States;X-APPLE-RADIUS
 =100;X-TITLE=Chasers Restaurant:geo:37.56962,-85.25468
END:VEVENT
BEGIN:VTIMEZONE
TZID:America/Kentucky/Louisville
X-LIC-LOCATION:America/Kentucky/Louisville
BEGIN:DAYLIGHT
DTSTART:20240310T030000
TZOFFSETFROM:-0500
TZOFFSETTO:-0400
TZNAME:EDT
END:DAYLIGHT
END:VTIMEZONE
END:VCALENDAR