BEGIN:VCALENDAR
VERSION:2.0
PRODID:-//wp-events-plugin.com//7.2.3.1//EN
BEGIN:VEVENT
UID:6585@visitlebanonky.com
DTSTART;TZID=America/Kentucky/Louisville:20241214T100000
DTEND;TZID=America/Kentucky/Louisville:20241214T120000
DTSTAMP:20241203T160130Z
URL:https://visitlebanonky.com/events/calvary-elementary-auction/
SUMMARY:Calvary Elementary Auction
DESCRIPTION:The Marion County School District has built a new school in Cal
 vary and will be having this auction for the sell of surplus items in the 
 old school.
ATTACH;FMTTYPE=image/jpeg:https://visitlebanonky.com/wp-content/uploads/20
 24/12/calvary-auction.jpg
CATEGORIES:Community
LOCATION:Calvary Elementary School\, 3345 Highway 208\, Lebanon\, Kentucky\
 , 40033\, Marion County\, United States
GEO:37.516429;-85.266774
X-APPLE-STRUCTURED-LOCATION;VALUE=URI;X-ADDRESS=3345 Highway 208\, Lebanon\
 , Kentucky\, 40033\, Marion County\, United States;X-APPLE-RADIUS=100;X-TI
 TLE=Calvary Elementary School:geo:37.516429,-85.266774
END:VEVENT
BEGIN:VTIMEZONE
TZID:America/Kentucky/Louisville
X-LIC-LOCATION:America/Kentucky/Louisville
BEGIN:STANDARD
DTSTART:20241103T010000
TZOFFSETFROM:-0400
TZOFFSETTO:-0500
TZNAME:EST
END:STANDARD
END:VTIMEZONE
END:VCALENDAR