BEGIN:VCALENDAR
VERSION:2.0
PRODID:-//wp-events-plugin.com//7.2.3.1//EN
BEGIN:VEVENT
UID:7850@visitlebanonky.com
DTSTART;TZID=America/Kentucky/Louisville:20250805T160000
DTEND;TZID=America/Kentucky/Louisville:20250806T180000
DTSTAMP:20250804T191608Z
URL:https://visitlebanonky.com/events/calvary-elementary-school-kindergart
 en-jumpstart-and-open-house/
SUMMARY:Calvary Elementary School Kindergarten Jumpstart and Open House
DESCRIPTION:
ATTACH;FMTTYPE=image/jpeg:https://visitlebanonky.com/wp-content/uploads/20
 25/08/calvary-school.jpg
CATEGORIES:Community
LOCATION:Calvary Elementary School\, 3345 Highway 208\, Lebanon\, Kentucky\
 , 40033\, Marion County\, United States
GEO:37.516429;-85.266774
X-APPLE-STRUCTURED-LOCATION;VALUE=URI;X-ADDRESS=3345 Highway 208\, Lebanon\
 , Kentucky\, 40033\, Marion County\, United States;X-APPLE-RADIUS=100;X-TI
 TLE=Calvary Elementary School:geo:37.516429,-85.266774
END:VEVENT
BEGIN:VTIMEZONE
TZID:America/Kentucky/Louisville
X-LIC-LOCATION:America/Kentucky/Louisville
BEGIN:DAYLIGHT
DTSTART:20250309T030000
TZOFFSETFROM:-0500
TZOFFSETTO:-0400
TZNAME:EDT
END:DAYLIGHT
END:VTIMEZONE
END:VCALENDAR