BEGIN:VCALENDAR
VERSION:2.0
PRODID:-//wp-events-plugin.com//7.2.3.1//EN
BEGIN:VEVENT
UID:8678@visitlebanonky.com
DTSTART;TZID=America/Kentucky/Louisville:20260228T160000
DTEND;TZID=America/Kentucky/Louisville:20260228T170000
DTSTAMP:20260129T193116Z
URL:https://visitlebanonky.com/events/candidate-meetings/
SUMMARY:Candidate Meetings
DESCRIPTION:
ATTACH;FMTTYPE=image/jpeg:https://visitlebanonky.com/wp-content/uploads/20
 26/01/motherhouse-candidate-meetings.jpg
CATEGORIES:Community
LOCATION:Sisters of Peace Academy Building\, 430 Academy Lane\, Nerinx\, Ke
 ntucky\, 40049\, Marion\, United States
GEO:37.660251;-85.393204
X-APPLE-STRUCTURED-LOCATION;VALUE=URI;X-ADDRESS=430 Academy Lane\, Nerinx\,
  Kentucky\, 40049\, Marion\, United States;X-APPLE-RADIUS=100;X-TITLE=Sist
 ers of Peace Academy Building:geo:37.660251,-85.393204
END:VEVENT
BEGIN:VTIMEZONE
TZID:America/Kentucky/Louisville
X-LIC-LOCATION:America/Kentucky/Louisville
BEGIN:STANDARD
DTSTART:20251102T010000
TZOFFSETFROM:-0400
TZOFFSETTO:-0500
TZNAME:EST
END:STANDARD
END:VTIMEZONE
END:VCALENDAR