BEGIN:VCALENDAR
VERSION:2.0
PRODID:-//wp-events-plugin.com//7.2.3.1//EN
BEGIN:VEVENT
UID:8082@visitlebanonky.com
DTSTART;TZID=America/Kentucky/Louisville:20251010T093000
DTEND;TZID=America/Kentucky/Louisville:20251010T133000
DTSTAMP:20251008T184104Z
URL:https://visitlebanonky.com/events/career-fair/
SUMMARY:Career Fair
DESCRIPTION:📢 Career Fair This Friday!\nLooking for your next career opp
 ortunity? Don’t miss the Lebanon/Marion County Career Fair happening thi
 s Friday\, October 10th from 9:30 AM to 1:30 PM at the Marion County Event
  Center and Sportsplex!\nCome meet top employers ready to hire\, including
 :\nMontebello Packaging\nMorris Packaging\nPortland Forge\nGrissan\nClark 
 Metals\nKomatsu\nFuel Total Systems\nKentucky Department of Corrections (N
 orthpoint Training Center)\nLB Manufacturing\nBring your résumé\, dress 
 to impress\, and get ready to connect with great local companies offering 
 real opportunities.\n📍 Location: Marion County Event Center and Sportsp
 lex\n🗓️ Date: Friday\, October 10th\n🕤 Time: 9:30 AM – 1:30 PM\n
 Spread the word — your next job could be waiting for you!
ATTACH;FMTTYPE=image/jpeg:https://visitlebanonky.com/wp-content/uploads/20
 25/10/career-fair-1.jpg
CATEGORIES:Community
LOCATION:Marion County Event Center and Sportsplex\, 101 Independence Drive
  \, LEBANON\, KY\, 40033\, Marion County\, United States
X-APPLE-STRUCTURED-LOCATION;VALUE=URI;X-ADDRESS=101 Independence Drive \, L
 EBANON\, KY\, 40033\, Marion County\, United States;X-APPLE-RADIUS=100;X-T
 ITLE=Marion County Event Center and Sportsplex:geo:0,0
END:VEVENT
BEGIN:VTIMEZONE
TZID:America/Kentucky/Louisville
X-LIC-LOCATION:America/Kentucky/Louisville
BEGIN:DAYLIGHT
DTSTART:20250309T030000
TZOFFSETFROM:-0500
TZOFFSETTO:-0400
TZNAME:EDT
END:DAYLIGHT
END:VTIMEZONE
END:VCALENDAR