BEGIN:VCALENDAR
VERSION:2.0
PRODID:-//wp-events-plugin.com//7.2.3.1//EN
BEGIN:VEVENT
UID:8896@visitlebanonky.com
DTSTART;TZID=America/Kentucky/Louisville:20260312T160000
DTEND;TZID=America/Kentucky/Louisville:20260312T173000
DTSTAMP:20260228T194051Z
URL:https://visitlebanonky.com/events/casa-101-change-a-childs-story/
SUMMARY:CASA 101 - Change A Child's Story
DESCRIPTION:CASA 101 is coming to Marion County Public Library on March 12.
  Stop by and learn how you can make a difference for a child.\nIf you have
  friends or family in Marion County\, please pass this along. Your share h
 elps us reach the right people. You can find the event page on Facebook HE
 RE
ATTACH;FMTTYPE=image/jpeg:https://visitlebanonky.com/wp-content/uploads/20
 26/02/casa.jpg
CATEGORIES:Community
LOCATION:Marion County Public Library\, 201 E. Main Street\, Lebanon\, KY/M
 arion\, 40033\, Marion County\, United States
X-APPLE-STRUCTURED-LOCATION;VALUE=URI;X-ADDRESS=201 E. Main Street\, Lebano
 n\, KY/Marion\, 40033\, Marion County\, United States;X-APPLE-RADIUS=100;X
 -TITLE=Marion County Public Library:geo:0,0
END:VEVENT
BEGIN:VTIMEZONE
TZID:America/Kentucky/Louisville
X-LIC-LOCATION:America/Kentucky/Louisville
BEGIN:DAYLIGHT
DTSTART:20260308T030000
TZOFFSETFROM:-0500
TZOFFSETTO:-0400
TZNAME:EDT
END:DAYLIGHT
END:VTIMEZONE
END:VCALENDAR