BEGIN:VCALENDAR
VERSION:2.0
PRODID:-//wp-events-plugin.com//7.2.3.1//EN
BEGIN:VEVENT
UID:6314@visitlebanonky.com
DTSTART;TZID=America/Kentucky/Louisville:20241025T100000
DTEND;TZID=America/Kentucky/Louisville:20241025T133000
DTSTAMP:20241021T034251Z
URL:https://visitlebanonky.com/events/cattlemans-cookout-for-mchs-knights-
 band-boosters/
SUMMARY:Cattleman's Cookout for MCHS Knights Band Boosters
DESCRIPTION:Support the band and have a great meal at the same time. This F
 riday at the Norby's parking lot. Pre-Orders are accepted by 5pm Thursday 
 and delivery on 8 plus orders.
ATTACH;FMTTYPE=image/jpeg:https://visitlebanonky.com/wp-content/uploads/20
 24/10/cattleman-2.jpg
CATEGORIES:Community
LOCATION:Norby Parking Lot\, 192 Lebanon Trade Center\, Lebanon\, Kentucky\
 , 40033\, Marion County\, United States
GEO:37.558888;-85.270473
X-APPLE-STRUCTURED-LOCATION;VALUE=URI;X-ADDRESS=192 Lebanon Trade Center\, 
 Lebanon\, Kentucky\, 40033\, Marion County\, United States;X-APPLE-RADIUS=
 100;X-TITLE=Norby Parking Lot:geo:37.558888,-85.270473
END:VEVENT
BEGIN:VTIMEZONE
TZID:America/Kentucky/Louisville
X-LIC-LOCATION:America/Kentucky/Louisville
BEGIN:DAYLIGHT
DTSTART:20240310T030000
TZOFFSETFROM:-0500
TZOFFSETTO:-0400
TZNAME:EDT
END:DAYLIGHT
END:VTIMEZONE
END:VCALENDAR