BEGIN:VCALENDAR
VERSION:2.0
PRODID:-//wp-events-plugin.com//7.2.3.1//EN
BEGIN:VEVENT
UID:9075@visitlebanonky.com
DTSTART;TZID=America/Kentucky/Louisville:20260424T100000
DTEND;TZID=America/Kentucky/Louisville:20260424T130000
DTSTAMP:20260319T042230Z
URL:https://visitlebanonky.com/events/cattlemans-cookout-fundraiser-hosted
 -by-leadership-lebanon-2/
SUMMARY:Cattleman's Cookout Fundraiser Hosted by Leadership Lebanon
DESCRIPTION:Join us Friday\, April 24th from 10 a.m. till 1 p.m. for the Ma
 rion County Cattlemen's Association Lunch Fundraiser! \nAll proceeds will 
 benefit Love Like Caroline and Central KY Community Action Council\, Inc.\
 nCome enjoy a great lunch while supporting two wonderful organizations mak
 ing a difference in our community!  \nYou can find the preorder form on Fa
 cebook HERE
ATTACH;FMTTYPE=image/jpeg:https://visitlebanonky.com/wp-content/uploads/20
 26/03/cattleman-1.jpg
CATEGORIES:Community
LOCATION:Norby Parking Lot\, 192 Lebanon Trade Center\, Lebanon\, Kentucky\
 , 40033\, Marion County\, United States
GEO:37.558888;-85.270473
X-APPLE-STRUCTURED-LOCATION;VALUE=URI;X-ADDRESS=192 Lebanon Trade Center\, 
 Lebanon\, Kentucky\, 40033\, Marion County\, United States;X-APPLE-RADIUS=
 100;X-TITLE=Norby Parking Lot:geo:37.558888,-85.270473
END:VEVENT
BEGIN:VTIMEZONE
TZID:America/Kentucky/Louisville
X-LIC-LOCATION:America/Kentucky/Louisville
BEGIN:DAYLIGHT
DTSTART:20260308T030000
TZOFFSETFROM:-0500
TZOFFSETTO:-0400
TZNAME:EDT
END:DAYLIGHT
END:VTIMEZONE
END:VCALENDAR