BEGIN:VCALENDAR
VERSION:2.0
PRODID:-//wp-events-plugin.com//7.2.3.1//EN
BEGIN:VEVENT
UID:9186@visitlebanonky.com
DTSTART;TZID=America/Kentucky/Louisville:20260417T103000
DTEND;TZID=America/Kentucky/Louisville:20260417T133000
DTSTAMP:20260413T150626Z
URL:https://visitlebanonky.com/events/cattlemans-cookout-fundraiser-hosted
 -by-marion-county-exceptional-adults-association/
SUMMARY:Cattleman's Cookout Fundraiser Hosted by Marion County Exceptional 
 Adults Association
DESCRIPTION:The Marion County Cattlemen will be partnering with The Marion 
 County Exceptional Adults Association to host a Cattlemen’s Cookout Fund
 raiser this Friday April 17 at the Norby's parking lot. Our sister\, Tammy
 \, loved the Cattlemen’s Association and all her friends at the former H
 andicapped Association\, and we are holding this special cookout to honor 
 her memory. Please come out and support this outstanding organization in o
 ur local community! All profits will be going to the Marion County Excepti
 onal Adults Association.  
ATTACH;FMTTYPE=image/jpeg:https://visitlebanonky.com/wp-content/uploads/20
 26/04/cattleman.jpg
CATEGORIES:Community
LOCATION:Norby Parking Lot\, 192 Lebanon Trade Center\, Lebanon\, Kentucky\
 , 40033\, Marion County\, United States
GEO:37.558888;-85.270473
X-APPLE-STRUCTURED-LOCATION;VALUE=URI;X-ADDRESS=192 Lebanon Trade Center\, 
 Lebanon\, Kentucky\, 40033\, Marion County\, United States;X-APPLE-RADIUS=
 100;X-TITLE=Norby Parking Lot:geo:37.558888,-85.270473
END:VEVENT
BEGIN:VTIMEZONE
TZID:America/Kentucky/Louisville
X-LIC-LOCATION:America/Kentucky/Louisville
BEGIN:DAYLIGHT
DTSTART:20260308T030000
TZOFFSETFROM:-0500
TZOFFSETTO:-0400
TZNAME:EDT
END:DAYLIGHT
END:VTIMEZONE
END:VCALENDAR