BEGIN:VCALENDAR
VERSION:2.0
PRODID:-//wp-events-plugin.com//7.2.3.1//EN
BEGIN:VEVENT
UID:5959@visitlebanonky.com
DTSTART;TZID=America/Kentucky/Louisville:20240802T100000
DTEND;TZID=America/Kentucky/Louisville:20240802T133000
DTSTAMP:20240729T232944Z
URL:https://visitlebanonky.com/events/cattlemans-cookout-to-benefit-ffa-st
 udents/
SUMMARY:Cattleman's Cookout to benefit FFA students
DESCRIPTION:It’s time for our Annual Back to School\, Cattlemens Cookout!
 ! \nHere’s how you can help! \nCommunity: Come out and support our progr
 am! This cookout allows for ALL students enrolled in Agriculture classes t
 o be FFA members without the financial burden.
ATTACH;FMTTYPE=image/jpeg:https://visitlebanonky.com/wp-content/uploads/20
 24/07/aug-2-cattleman.jpg
CATEGORIES:Community
LOCATION:Norby Parking Lot\, 192 Lebanon Trade Center\, Lebanon\, Kentucky\
 , 40033\, Marion County\, United States
GEO:37.558888;-85.270473
X-APPLE-STRUCTURED-LOCATION;VALUE=URI;X-ADDRESS=192 Lebanon Trade Center\, 
 Lebanon\, Kentucky\, 40033\, Marion County\, United States;X-APPLE-RADIUS=
 100;X-TITLE=Norby Parking Lot:geo:37.558888,-85.270473
END:VEVENT
BEGIN:VTIMEZONE
TZID:America/Kentucky/Louisville
X-LIC-LOCATION:America/Kentucky/Louisville
BEGIN:DAYLIGHT
DTSTART:20240310T030000
TZOFFSETFROM:-0500
TZOFFSETTO:-0400
TZNAME:EDT
END:DAYLIGHT
END:VTIMEZONE
END:VCALENDAR