BEGIN:VCALENDAR
VERSION:2.0
PRODID:-//wp-events-plugin.com//7.2.3.1//EN
BEGIN:VEVENT
UID:8132@visitlebanonky.com
DTSTART;TZID=America/Kentucky/Louisville:20251024T100000
DTEND;TZID=America/Kentucky/Louisville:20251024T133000
DTSTAMP:20251016T165712Z
URL:https://visitlebanonky.com/events/cattlemans-cookout-to-benefit-mchs-g
 olf-teams/
SUMMARY:Cattleman's Cookout to Benefit MCHS Golf Teams
DESCRIPTION: 
ATTACH;FMTTYPE=image/jpeg:https://visitlebanonky.com/wp-content/uploads/20
 25/10/10-24-Cattleman.jpg
CATEGORIES:Community
LOCATION:Norby Parking Lot\, 192 Lebanon Trade Center\, Lebanon\, Kentucky\
 , 40033\, Marion County\, United States
GEO:37.558888;-85.270473
X-APPLE-STRUCTURED-LOCATION;VALUE=URI;X-ADDRESS=192 Lebanon Trade Center\, 
 Lebanon\, Kentucky\, 40033\, Marion County\, United States;X-APPLE-RADIUS=
 100;X-TITLE=Norby Parking Lot:geo:37.558888,-85.270473
END:VEVENT
BEGIN:VTIMEZONE
TZID:America/Kentucky/Louisville
X-LIC-LOCATION:America/Kentucky/Louisville
BEGIN:DAYLIGHT
DTSTART:20250309T030000
TZOFFSETFROM:-0500
TZOFFSETTO:-0400
TZNAME:EDT
END:DAYLIGHT
END:VTIMEZONE
END:VCALENDAR