BEGIN:VCALENDAR
VERSION:2.0
PRODID:-//wp-events-plugin.com//7.2.3.1//EN
BEGIN:VEVENT
UID:7583@visitlebanonky.com
DTSTART;TZID=America/Kentucky/Louisville:20250519T173000
DTEND;TZID=America/Kentucky/Louisville:20250519T193000
DTSTAMP:20250508T011440Z
URL:https://visitlebanonky.com/events/central-kentucky-football-academy-so
 ccer-tryouts/
SUMMARY:Central Kentucky Football Academy Soccer Tryouts
DESCRIPTION:Tryouts for this coming Fall are here! Message for details!\nht
 tps://docs.google.com/.../1FAIpQLSfwKpbauE8.../viewform...\n\nYou can find
  Central Kentucky Football Academy on Facebook at https://www.facebook.com
 /profile.php?id=61575287202431
ATTACH;FMTTYPE=image/jpeg:https://visitlebanonky.com/wp-content/uploads/20
 25/05/soccer-tryouts.jpg
CATEGORIES:Community
LOCATION:Marion County Soccer Fields\, 416 Fairgrounds Road\, Lebanon\, Ken
 tucky\, 40033\, Marion County\, United States
GEO:37.56617;-85.239169
X-APPLE-STRUCTURED-LOCATION;VALUE=URI;X-ADDRESS=416 Fairgrounds Road\, Leba
 non\, Kentucky\, 40033\, Marion County\, United States;X-APPLE-RADIUS=100;
 X-TITLE=Marion County Soccer Fields:geo:37.56617,-85.239169
END:VEVENT
BEGIN:VTIMEZONE
TZID:America/Kentucky/Louisville
X-LIC-LOCATION:America/Kentucky/Louisville
BEGIN:DAYLIGHT
DTSTART:20250309T030000
TZOFFSETFROM:-0500
TZOFFSETTO:-0400
TZNAME:EDT
END:DAYLIGHT
END:VTIMEZONE
END:VCALENDAR