BEGIN:VCALENDAR
VERSION:2.0
PRODID:-//wp-events-plugin.com//7.2.3.1//EN
BEGIN:VEVENT
UID:7591@visitlebanonky.com
DTSTART;TZID=America/Kentucky/Louisville:20260605T000000
DTEND;TZID=America/Kentucky/Louisville:20260607T000000
DTSTAMP:20250620T144032Z
URL:https://visitlebanonky.com/events/central-kentucky-theatre-2025-2026-s
 eason-the-crucible/
SUMMARY:Central Kentucky Theatre 2025-2026 Season - The Crucible
DESCRIPTION:Follow on Facebook at https://www.facebook.com/CentralKyTheatre
  for more information and times.
ATTACH;FMTTYPE=image/jpeg:https://visitlebanonky.com/wp-content/uploads/20
 25/05/central-kentucky-theatre.jpg
CATEGORIES:Community
LOCATION:Opera House/ Central Ky Theatre\, 124 W. Main St.\, Springfield\, 
 KY/ Washington\, 40069\, Washington County\, United States
X-APPLE-STRUCTURED-LOCATION;VALUE=URI;X-ADDRESS=124 W. Main St.\, Springfie
 ld\, KY/ Washington\, 40069\, Washington County\, United States;X-APPLE-RA
 DIUS=100;X-TITLE=Opera House/ Central Ky Theatre:geo:0,0
END:VEVENT
BEGIN:VTIMEZONE
TZID:America/Kentucky/Louisville
X-LIC-LOCATION:America/Kentucky/Louisville
BEGIN:DAYLIGHT
DTSTART:20260308T030000
TZOFFSETFROM:-0500
TZOFFSETTO:-0400
TZNAME:EDT
END:DAYLIGHT
END:VTIMEZONE
END:VCALENDAR