BEGIN:VCALENDAR
VERSION:2.0
PRODID:-//wp-events-plugin.com//7.2.3.1//EN
BEGIN:VEVENT
UID:8430@visitlebanonky.com
DTSTART;TZID=America/Kentucky/Louisville:20251204T000000
DTEND;TZID=America/Kentucky/Louisville:20251228T000000
DTSTAMP:20251204T061744Z
URL:https://visitlebanonky.com/events/central-kentucky-young-volleyball-si
 gn-ups/
SUMMARY:Central Kentucky Young Volleyball Sign Ups
DESCRIPTION:We are now starting registration for our 4th season of Central 
 Kentucky Youth Volleyball! We are moving our location this season to the M
 arion County Event Center & Sportsplex but will still be open to any young
  lady in grades 1-5 from any area. Check out the registration details at H
 ERE  
ATTACH;FMTTYPE=image/jpeg:https://visitlebanonky.com/wp-content/uploads/20
 25/12/volleyball.jpg
CATEGORIES:Community
LOCATION:Marion County Event Center and Sportsplex\, 101 Independence Drive
  \, LEBANON\, KY\, 40033\, Marion County\, United States
X-APPLE-STRUCTURED-LOCATION;VALUE=URI;X-ADDRESS=101 Independence Drive \, L
 EBANON\, KY\, 40033\, Marion County\, United States;X-APPLE-RADIUS=100;X-T
 ITLE=Marion County Event Center and Sportsplex:geo:0,0
END:VEVENT
BEGIN:VTIMEZONE
TZID:America/Kentucky/Louisville
X-LIC-LOCATION:America/Kentucky/Louisville
BEGIN:STANDARD
DTSTART:20251102T010000
TZOFFSETFROM:-0400
TZOFFSETTO:-0500
TZNAME:EST
END:STANDARD
END:VTIMEZONE
END:VCALENDAR