BEGIN:VCALENDAR
VERSION:2.0
PRODID:-//wp-events-plugin.com//7.2.3.1//EN
BEGIN:VEVENT
UID:8637@visitlebanonky.com
DTSTART;TZID=America/Kentucky/Louisville:20260314T000000
DTEND;TZID=America/Kentucky/Louisville:20260315T000000
DTSTAMP:20260114T003843Z
URL:https://visitlebanonky.com/events/central-ky-elite-basketball-tourname
 nt/
SUMMARY:Central KY Elite Basketball Tournament
DESCRIPTION:Central Kentucky Elite Basketball\n🔥 A New Era of Tournament
 s 🔥\nCentral Kentucky Elite Sports\nElite competition. Great exposure. 
 Affordable pricing.\nCentral Kentucky Elite Sports is bringing a tournamen
 t experience where programs feel welcome\, families feel comfortable\, and
  players compete at a high level—without breaking the bank.\n🏀 High-l
 evel competitive basketball\n📍 Convenient Central Kentucky locations\n
 👨‍👩‍👧‍👦 Affordable for the entire family\nThis is where 
 competition meets community.\nWelcome to the new era of basketball. 🏀
 🔥\n⸻\n🗓️ 2026 Tournament Schedule\n🏟️ Two State-of-the-Art 
 Facilities\nDoris & Bob Holloway Wellness Center\n(Lindsey Wilson College)
  – Columbia\, KY\nMarion County Event Center & Sportsplex\nLebanon\, KY\
 nBoth facilities feature multiple courts and are centrally located—just 
 a short drive from major cities across the Bluegrass State.\n⸻\n⭐ What
  Sets Us Apart\n• Top-notch awards\n• Affordable pricing (entry fees\,
  gate\, and concessions)\n• Professional video photographer at all event
 s\n• Exposure write-ups for elite performers\n• Flexible scheduling\n
 • Play 3 out of 7 events and earn a FREE entry into the Grand Finale\n
 ⸻\n📅 Event Dates\n📍 Feb 14–15 – Columbia\, KY\n📍 Feb 28–M
 ar 1 – Columbia\, KY\n📍 Mar 14- 15 – Lebanon\, KY\n📍 Mar 28–29
  – Columbia\, KY\n📍 Apr 18–19 – Lebanon\, KY\n📍 May 9 – Colu
 mbia\, KY (ONE-DAY EVENT)\n🏆 May 16–17 – THE GRAND FINALE – Leban
 on\, KY\n⸻\n🎯 Come catch the action with Central Kentucky Elite Sport
 s!\nFor the best pricing\, register early.\n📞 Register: 270-940-3677 | 
 270-321-9747\n📧 Email: Centralkyelite2025@gmail.com\nSee you soon! 🏀
 🔥\nFollow on Facebook HERE
ATTACH;FMTTYPE=image/jpeg:https://visitlebanonky.com/wp-content/uploads/20
 26/01/central-ky-elite.jpg
CATEGORIES:Community
LOCATION:Marion County Event Center and Sportsplex\, 101 Independence Drive
  \, LEBANON\, KY\, 40033\, Marion County\, United States
X-APPLE-STRUCTURED-LOCATION;VALUE=URI;X-ADDRESS=101 Independence Drive \, L
 EBANON\, KY\, 40033\, Marion County\, United States;X-APPLE-RADIUS=100;X-T
 ITLE=Marion County Event Center and Sportsplex:geo:0,0
END:VEVENT
BEGIN:VTIMEZONE
TZID:America/Kentucky/Louisville
X-LIC-LOCATION:America/Kentucky/Louisville
BEGIN:DAYLIGHT
DTSTART:20260308T030000
TZOFFSETFROM:-0500
TZOFFSETTO:-0400
TZNAME:EDT
END:DAYLIGHT
END:VTIMEZONE
END:VCALENDAR