BEGIN:VCALENDAR
VERSION:2.0
PRODID:-//wp-events-plugin.com//7.2.3.1//EN
BEGIN:VEVENT
UID:7871@visitlebanonky.com
DTSTART;TZID=America/Kentucky/Louisville:20250918T180000
DTEND;TZID=America/Kentucky/Louisville:20250918T220000
DTSTAMP:20250825T195259Z
URL:https://visitlebanonky.com/events/central-ky-idol-preliminary-rounds-1
 2/
SUMMARY:Central KY Idol Preliminary Rounds
DESCRIPTION:It's that time again!   Central KY Idol Preliminary Rounds are 
 set!  \nAugust 7 -  Chasers Restaurant\nAugust 14 - Cozy Corner\nAugust 21
  - Main Street Diner\nAugust 28 - Good Buddies Brewing\nSept 4 -  Jessie I
 nsurance\nSept 11 - Cozy Corner\nSept. 18 - Big Papa's Smoke House\n\nThe 
 finals will be on September 27 on the Marion County Country Ham Days Main 
 Stage.\n\nCentral KY Idol\, a part of Marion County Country Ham Days!\n6 P
 reliminary Rounds qualifying 12 contestants to compete for $1000 Prize Pur
 se.($750 winner\, $250 runner up)\nPreliminary Winners $75 winner $25 runn
 er up. To find the rules and how to sign up go to their Facebook at https:
 //www.facebook.com/profile.php?id=100064830275611
ATTACH;FMTTYPE=image/jpeg:https://visitlebanonky.com/wp-content/uploads/20
 25/07/central-ky-idol-2.jpg
CATEGORIES:Community
LOCATION:Big Papas Smokehouse\, 737 W Main St\, Lebanon\, Kentucky\, 40033\
 , Marion County\, United States
GEO:37.56122;-85.269638
X-APPLE-STRUCTURED-LOCATION;VALUE=URI;X-ADDRESS=737 W Main St\, Lebanon\, K
 entucky\, 40033\, Marion County\, United States;X-APPLE-RADIUS=100;X-TITLE
 =Big Papas Smokehouse:geo:37.56122,-85.269638
END:VEVENT
BEGIN:VTIMEZONE
TZID:America/Kentucky/Louisville
X-LIC-LOCATION:America/Kentucky/Louisville
BEGIN:DAYLIGHT
DTSTART:20250309T030000
TZOFFSETFROM:-0500
TZOFFSETTO:-0400
TZNAME:EDT
END:DAYLIGHT
END:VTIMEZONE
END:VCALENDAR