BEGIN:VCALENDAR
VERSION:2.0
PRODID:-//wp-events-plugin.com//7.2.3.1//EN
BEGIN:VEVENT
UID:8306@visitlebanonky.com
DTSTART;TZID=America/Kentucky/Louisville:20261005T100000
DTEND;TZID=America/Kentucky/Louisville:20261005T110000
DTSTAMP:20251110T162653Z
URL:https://visitlebanonky.com/events/chair-yoga-at-loretto-branch-of-mc-p
 ublic-library-2026-10-05/
SUMMARY:Chair Yoga at Loretto Branch of MC Public Library
DESCRIPTION:Chair Yoga\nMondays at 10 a.m. and again at 7 p.m.\nLoretto Sen
 ior Citizens Building \nSponsored by Marion County Public Library.  \nTV d
 onated by Communicare and Jackie Fogle\, magistrate.  \nYou can follow thi
 s branch on Facebook HERE
ATTACH;FMTTYPE=image/jpeg:https://visitlebanonky.com/wp-content/uploads/20
 25/01/loretto-chair-yoga.jpg
CATEGORIES:Community
LOCATION:MCPL LORETTO BRANCH\, 255 SCHOOL DRIVE\, LORETTO\, Kentucky\, 4003
 7 \, Marion County\, United States
GEO:36.701768;-85.684335
X-APPLE-STRUCTURED-LOCATION;VALUE=URI;X-ADDRESS=255 SCHOOL DRIVE\, LORETTO\
 , Kentucky\, 40037 \, Marion County\, United States;X-APPLE-RADIUS=100;X-T
 ITLE=MCPL LORETTO BRANCH:geo:36.701768,-85.684335
END:VEVENT
BEGIN:VTIMEZONE
TZID:America/Kentucky/Louisville
X-LIC-LOCATION:America/Kentucky/Louisville
BEGIN:DAYLIGHT
DTSTART:20260308T030000
TZOFFSETFROM:-0500
TZOFFSETTO:-0400
TZNAME:EDT
END:DAYLIGHT
END:VTIMEZONE
END:VCALENDAR