BEGIN:VCALENDAR
VERSION:2.0
PRODID:-//wp-events-plugin.com//7.2.3.1//EN
BEGIN:VEVENT
UID:7866@visitlebanonky.com
DTSTART;TZID=America/Kentucky/Louisville:20250821T160000
DTEND;TZID=America/Kentucky/Louisville:20250821T173000
DTSTAMP:20250811T162801Z
URL:https://visitlebanonky.com/events/chamber-connections-2025-4/
SUMMARY:Chamber Connections 2025
DESCRIPTION:Chamber Connections 2025 will be a great way for Chamber member
 s to network with one another while learning more about the host site and 
 their facilities. Held once a quarter on a Thursday evening\, Chamber Conn
 ections will be free for Chamber members and will be hosted by a Chamber m
 ember.  
ATTACH;FMTTYPE=image/jpeg:https://visitlebanonky.com/wp-content/uploads/20
 25/08/Chamber-Connections.jpg
CATEGORIES:Community
LOCATION:Marion County Event Center and Sportsplex\, 101 Independence Drive
  \, LEBANON\, KY\, 40033\, Marion County\, United States
X-APPLE-STRUCTURED-LOCATION;VALUE=URI;X-ADDRESS=101 Independence Drive \, L
 EBANON\, KY\, 40033\, Marion County\, United States;X-APPLE-RADIUS=100;X-T
 ITLE=Marion County Event Center and Sportsplex:geo:0,0
END:VEVENT
BEGIN:VTIMEZONE
TZID:America/Kentucky/Louisville
X-LIC-LOCATION:America/Kentucky/Louisville
BEGIN:DAYLIGHT
DTSTART:20250309T030000
TZOFFSETFROM:-0500
TZOFFSETTO:-0400
TZNAME:EDT
END:DAYLIGHT
END:VTIMEZONE
END:VCALENDAR