BEGIN:VCALENDAR
VERSION:2.0
PRODID:-//wp-events-plugin.com//7.2.3.1//EN
BEGIN:VEVENT
UID:8645@visitlebanonky.com
DTSTART;TZID=America/Kentucky/Louisville:20260321T100000
DTEND;TZID=America/Kentucky/Louisville:20260321T140000
DTSTAMP:20260117T212709Z
URL:https://visitlebanonky.com/events/champions-cheerleaders-world-down-sy
 ndrome-day/
SUMMARY:Champions & Cheerleaders - World Down Syndrome Day
DESCRIPTION:Please share!  We are still looking for groups to set up info t
 ables\, door prizes\, and volunteers to help spread the word and get famil
 ies to attend!!!
ATTACH;FMTTYPE=image/jpeg:https://visitlebanonky.com/wp-content/uploads/20
 26/01/SPECIAL-NEEDS.jpg
CATEGORIES:Community
LOCATION:Marion County Event Center and Sportsplex\, 101 Independence Drive
  \, LEBANON\, KY\, 40033\, Marion County\, United States
X-APPLE-STRUCTURED-LOCATION;VALUE=URI;X-ADDRESS=101 Independence Drive \, L
 EBANON\, KY\, 40033\, Marion County\, United States;X-APPLE-RADIUS=100;X-T
 ITLE=Marion County Event Center and Sportsplex:geo:0,0
END:VEVENT
BEGIN:VTIMEZONE
TZID:America/Kentucky/Louisville
X-LIC-LOCATION:America/Kentucky/Louisville
BEGIN:DAYLIGHT
DTSTART:20260308T030000
TZOFFSETFROM:-0500
TZOFFSETTO:-0400
TZNAME:EDT
END:DAYLIGHT
END:VTIMEZONE
END:VCALENDAR