BEGIN:VCALENDAR
VERSION:2.0
PRODID:-//wp-events-plugin.com//7.2.3.1//EN
BEGIN:VEVENT
UID:8951@visitlebanonky.com
DTSTART;TZID=America/Kentucky/Louisville:20260711T100000
DTEND;TZID=America/Kentucky/Louisville:20260711T140000
DTSTAMP:20260306T173939Z
URL:https://visitlebanonky.com/events/cheers-to-five-years-at-the-cozy-lof
 t/
SUMMARY:Cheers to Five Years at the Cozy Loft
DESCRIPTION:Come CELEBRATE FIVE wonderful years of business with us at your
  one stop SHOP!\nFollow along HERE as we add surprises & details📸\nFood
 \, Drinks\, Guests\, Sales & MORE\n📆July 11TH\, 2026\n⏰10:00-2:00\n
ATTACH;FMTTYPE=image/jpeg:https://visitlebanonky.com/wp-content/uploads/20
 26/03/consignment.jpg
CATEGORIES:Community
LOCATION:The Cozy Loft Boutique\, 116 Cemetery Road Suite 2\, Lebanon\, Ken
 tucky\, 40033\, Marion County\, United States
GEO:37.5569;-85.272394
X-APPLE-STRUCTURED-LOCATION;VALUE=URI;X-ADDRESS=116 Cemetery Road Suite 2\,
  Lebanon\, Kentucky\, 40033\, Marion County\, United States;X-APPLE-RADIUS
 =100;X-TITLE=The Cozy Loft Boutique:geo:37.5569,-85.272394
END:VEVENT
BEGIN:VTIMEZONE
TZID:America/Kentucky/Louisville
X-LIC-LOCATION:America/Kentucky/Louisville
BEGIN:DAYLIGHT
DTSTART:20260308T030000
TZOFFSETFROM:-0500
TZOFFSETTO:-0400
TZNAME:EDT
END:DAYLIGHT
END:VTIMEZONE
END:VCALENDAR