BEGIN:VCALENDAR
VERSION:2.0
PRODID:-//wp-events-plugin.com//7.2.3.1//EN
BEGIN:VEVENT
UID:8446@visitlebanonky.com
DTSTART;TZID=America/Kentucky/Louisville:20260110T170000
DTEND;TZID=America/Kentucky/Louisville:20260110T210000
DTSTAMP:20251209T023138Z
URL:https://visitlebanonky.com/events/chili-cook-off-and-cornhole-tourname
 nt-to-benefit-whas-for-children/
SUMMARY:Chili Cook-Off and Cornhole Tournament to Benefit WHAS For Children
DESCRIPTION:Save the date! Come out and support a worthy cause. Price will 
 be $10 to vote for your favorite chili\, and you get to sample them all. T
 he cornhole tournament will be random draw partners and will be $20 per pe
 rson to enter. Cash prize to the top two teams! Follow the event on Facebo
 ok HERE 
ATTACH;FMTTYPE=image/jpeg:https://visitlebanonky.com/wp-content/uploads/20
 25/12/chili-cookoff.jpg
CATEGORIES:Community
LOCATION:Loretto Fire Department 393\, 100 School Drive\, Loretto\, Kentuck
 y\, 40049\, Marion County\, United States
GEO:37.63707;-85.403856
X-APPLE-STRUCTURED-LOCATION;VALUE=URI;X-ADDRESS=100 School Drive\, Loretto\
 , Kentucky\, 40049\, Marion County\, United States;X-APPLE-RADIUS=100;X-TI
 TLE=Loretto Fire Department 393:geo:37.63707,-85.403856
END:VEVENT
BEGIN:VTIMEZONE
TZID:America/Kentucky/Louisville
X-LIC-LOCATION:America/Kentucky/Louisville
BEGIN:STANDARD
DTSTART:20251102T010000
TZOFFSETFROM:-0400
TZOFFSETTO:-0500
TZNAME:EST
END:STANDARD
END:VTIMEZONE
END:VCALENDAR