BEGIN:VCALENDAR
VERSION:2.0
PRODID:-//wp-events-plugin.com//7.2.3.1//EN
BEGIN:VEVENT
UID:8663@visitlebanonky.com
DTSTART;TZID=America/Kentucky/Louisville:20260207T090000
DTEND;TZID=America/Kentucky/Louisville:20260207T120000
DTSTAMP:20260123T012423Z
URL:https://visitlebanonky.com/events/chocolate-around-the-world/
SUMMARY:Chocolate Around The World
DESCRIPTION:The Friends of the Library will be having a special fundraising
  event Saturday February 7 from 9 a.m. till noon. Come and try Chocolates 
 from Around the World!  Sample three countries chocolates for $2 or $3 for
  all six countries available!  This  event will be at the library's main b
 ranch\, so be sure to join us!\n 
ATTACH;FMTTYPE=image/jpeg:https://visitlebanonky.com/wp-content/uploads/20
 26/01/chocolate.jpg
CATEGORIES:Community
LOCATION:Marion County Public Library\, 201 E. Main Street\, Lebanon\, KY/M
 arion\, 40033\, Marion County\, United States
X-APPLE-STRUCTURED-LOCATION;VALUE=URI;X-ADDRESS=201 E. Main Street\, Lebano
 n\, KY/Marion\, 40033\, Marion County\, United States;X-APPLE-RADIUS=100;X
 -TITLE=Marion County Public Library:geo:0,0
END:VEVENT
BEGIN:VTIMEZONE
TZID:America/Kentucky/Louisville
X-LIC-LOCATION:America/Kentucky/Louisville
BEGIN:STANDARD
DTSTART:20251102T010000
TZOFFSETFROM:-0400
TZOFFSETTO:-0500
TZNAME:EST
END:STANDARD
END:VTIMEZONE
END:VCALENDAR