BEGIN:VCALENDAR
VERSION:2.0
PRODID:-//wp-events-plugin.com//7.2.3.1//EN
BEGIN:VEVENT
UID:6616@visitlebanonky.com
DTSTART;TZID=America/Kentucky/Louisville:20241221T100000
DTEND;TZID=America/Kentucky/Louisville:20241221T160000
DTSTAMP:20241217T012032Z
URL:https://visitlebanonky.com/events/christmas-at-cornerstone/
SUMMARY:Christmas at Cornerstone
DESCRIPTION:Christmas spirit is all around at Cornerstone Acres and we welc
 ome you to join us for a special family fun event! Our 1794 historic estat
 e and event venue is the perfect backdrop for fun activities that include 
 meeting Santa & Mrs. Claus\, the Grinch and Chilly the Snowman. Enjoy hot 
 cocoa and participate in activities such as hayrides\, a scavenger hunt\, 
 ugly sweater contest\, cookie decorating\, crafts\, Christmas movies\, sno
 wball fights\, vendors and much more! Note: Santa & Mrs. Claus will be ava
 ilable for photos from 11 AM - 3 PM. Tickets purchased in advance are $5 p
 er person(plus Eventbrite fee). Tickets day of are $10. Tickets are requir
 ed for all individuals ages over 2 years old. You won't want to miss this 
 magical event and all the memories your family will make!
ATTACH;FMTTYPE=image/jpeg:https://visitlebanonky.com/wp-content/uploads/20
 24/12/cornerstone.jpg
CATEGORIES:Official
LOCATION:Cornerstone Acres\, 379 Rudd Lane\, Springfield\, Kentucky\, 40069
 \, Washington County\, United States
GEO:37.775702;-85.212921
X-APPLE-STRUCTURED-LOCATION;VALUE=URI;X-ADDRESS=379 Rudd Lane\, Springfield
 \, Kentucky\, 40069\, Washington County\, United States;X-APPLE-RADIUS=100
 ;X-TITLE=Cornerstone Acres:geo:37.775702,-85.212921
END:VEVENT
BEGIN:VTIMEZONE
TZID:America/Kentucky/Louisville
X-LIC-LOCATION:America/Kentucky/Louisville
BEGIN:STANDARD
DTSTART:20241103T010000
TZOFFSETFROM:-0400
TZOFFSETTO:-0500
TZNAME:EST
END:STANDARD
END:VTIMEZONE
END:VCALENDAR